BEGIN:VCALENDAR
VERSION:2.0
PRODID:-//beerblogIN - ECPv6.15.20//NONSGML v1.0//EN
CALSCALE:GREGORIAN
METHOD:PUBLISH
X-WR-CALNAME:beerblogIN
X-ORIGINAL-URL:https://beerblogin.com
X-WR-CALDESC:Events for beerblogIN
REFRESH-INTERVAL;VALUE=DURATION:PT1H
X-Robots-Tag:noindex
X-PUBLISHED-TTL:PT1H
BEGIN:VTIMEZONE
TZID:America/Indiana/Indianapolis
BEGIN:DAYLIGHT
TZOFFSETFROM:-0500
TZOFFSETTO:-0400
TZNAME:EDT
DTSTART:20220313T070000
END:DAYLIGHT
BEGIN:STANDARD
TZOFFSETFROM:-0400
TZOFFSETTO:-0500
TZNAME:EST
DTSTART:20221106T060000
END:STANDARD
BEGIN:DAYLIGHT
TZOFFSETFROM:-0500
TZOFFSETTO:-0400
TZNAME:EDT
DTSTART:20230312T070000
END:DAYLIGHT
BEGIN:STANDARD
TZOFFSETFROM:-0400
TZOFFSETTO:-0500
TZNAME:EST
DTSTART:20231105T060000
END:STANDARD
BEGIN:DAYLIGHT
TZOFFSETFROM:-0500
TZOFFSETTO:-0400
TZNAME:EDT
DTSTART:20240310T070000
END:DAYLIGHT
BEGIN:STANDARD
TZOFFSETFROM:-0400
TZOFFSETTO:-0500
TZNAME:EST
DTSTART:20241103T060000
END:STANDARD
END:VTIMEZONE
BEGIN:VEVENT
DTSTART;TZID=America/Indiana/Indianapolis:20230812T170000
DTEND;TZID=America/Indiana/Indianapolis:20230812T210000
DTSTAMP:20260424T061621
CREATED:20230811T181815Z
LAST-MODIFIED:20230811T181820Z
UID:10000160-1691859600-1691874000@beerblogin.com
SUMMARY:PINTS IN THE PARK
DESCRIPTION:The 9th annual Pints In The Park is a Craft Beer fest that will be held on Saturday August 12th\, 2023 from 5pm – 9pm. It will be hosted outside at the beautiful Wicker Memorial Park in Highland\, IN. The fest will feature unlimited sampling of over 100 Craft Beers from about 30 different local and national breweries. \n\n\n\nLive music will be be provided by The Crawpuppies. \n\n\n\nFood from various food trucks will be available for purchase. \n\n\n\n\n\n\n\n\n\n\n\n\n\n\n	Related
URL:https://beerblogin.com/event/pints-in-the-park/
LOCATION:Wicker Memorial Park\, 2215 Ridge Road\,\, Highland\, Indiana\, 46322
END:VEVENT
END:VCALENDAR