BEGIN:VCALENDAR
VERSION:2.0
PRODID:-//beerblogIN - ECPv6.15.20//NONSGML v1.0//EN
CALSCALE:GREGORIAN
METHOD:PUBLISH
X-WR-CALNAME:beerblogIN
X-ORIGINAL-URL:https://beerblogin.com
X-WR-CALDESC:Events for beerblogIN
REFRESH-INTERVAL;VALUE=DURATION:PT1H
X-Robots-Tag:noindex
X-PUBLISHED-TTL:PT1H
BEGIN:VTIMEZONE
TZID:America/Indiana/Indianapolis
BEGIN:DAYLIGHT
TZOFFSETFROM:-0500
TZOFFSETTO:-0400
TZNAME:EDT
DTSTART:20220313T070000
END:DAYLIGHT
BEGIN:STANDARD
TZOFFSETFROM:-0400
TZOFFSETTO:-0500
TZNAME:EST
DTSTART:20221106T060000
END:STANDARD
BEGIN:DAYLIGHT
TZOFFSETFROM:-0500
TZOFFSETTO:-0400
TZNAME:EDT
DTSTART:20230312T070000
END:DAYLIGHT
BEGIN:STANDARD
TZOFFSETFROM:-0400
TZOFFSETTO:-0500
TZNAME:EST
DTSTART:20231105T060000
END:STANDARD
BEGIN:DAYLIGHT
TZOFFSETFROM:-0500
TZOFFSETTO:-0400
TZNAME:EDT
DTSTART:20240310T070000
END:DAYLIGHT
BEGIN:STANDARD
TZOFFSETFROM:-0400
TZOFFSETTO:-0500
TZNAME:EST
DTSTART:20241103T060000
END:STANDARD
END:VTIMEZONE
BEGIN:VEVENT
DTSTART;TZID=America/Indiana/Indianapolis:20230812T120000
DTEND;TZID=America/Indiana/Indianapolis:20230812T163000
DTSTAMP:20260424T003628
CREATED:20230811T165312Z
LAST-MODIFIED:20230811T191530Z
UID:10000157-1691841600-1691857800@beerblogin.com
SUMMARY:WHITESTOWN BREWFEST
DESCRIPTION:Join us for the 9th annual Whitestown Brew Fest on Saturday\, August 12 from 12-4:30 p.m. at the Whitestown Municipal Complex. \n\n\n\nThe event\, presented by the Boone County Convention and Visitors Bureau\, is open to anyone 21 years old and older and will feature 20+ Indiana breweries\, wineries\, and distilleries from all over the state. \n\n\n\nIt also includes a one-of-a-kind Indiana Homebrewer Competition. Attendees can sample pours and cast a vote for their favorite homebrew. The winning homebrewer will receive $1\,000. \n\n\n\nLive music will be provided by Tim Neuman and Hillbilly Rockstarz. There will also be food trucks on site including The Overgrown Pasture\, Boozee Bundts\, Dogs to Go by Uncle Zo\, City BBQ\, and Grumpy Gringo. \n\n\n\nGates open for VIP entry at 12 p.m. and general admission entry begins at 1 p.m. Both ticket options include unlimited pours from vendors\, along with access to live music and entertainment. Last pour will take place at 4:15 p.m. \n\n\n\nTickets are available online or at the gate. \n\n\n\n\n\n\n\n\n\n\n\n\n\n\n	Related
URL:https://beerblogin.com/event/whitestown-brewfest/
LOCATION:Whitestown Municipal Complex\, 6210 S 700 E\, Whitestown\, IN\, 46075\, United States
END:VEVENT
END:VCALENDAR