BEGIN:VCALENDAR
VERSION:2.0
PRODID:-//beerblogIN - ECPv6.15.20//NONSGML v1.0//EN
CALSCALE:GREGORIAN
METHOD:PUBLISH
X-ORIGINAL-URL:https://beerblogin.com
X-WR-CALDESC:Events for beerblogIN
REFRESH-INTERVAL;VALUE=DURATION:PT1H
X-Robots-Tag:noindex
X-PUBLISHED-TTL:PT1H
BEGIN:VTIMEZONE
TZID:America/Indiana/Indianapolis
BEGIN:DAYLIGHT
TZOFFSETFROM:-0500
TZOFFSETTO:-0400
TZNAME:EDT
DTSTART:20240310T070000
END:DAYLIGHT
BEGIN:STANDARD
TZOFFSETFROM:-0400
TZOFFSETTO:-0500
TZNAME:EST
DTSTART:20241103T060000
END:STANDARD
BEGIN:DAYLIGHT
TZOFFSETFROM:-0500
TZOFFSETTO:-0400
TZNAME:EDT
DTSTART:20250309T070000
END:DAYLIGHT
BEGIN:STANDARD
TZOFFSETFROM:-0400
TZOFFSETTO:-0500
TZNAME:EST
DTSTART:20251102T060000
END:STANDARD
BEGIN:DAYLIGHT
TZOFFSETFROM:-0500
TZOFFSETTO:-0400
TZNAME:EDT
DTSTART:20260308T070000
END:DAYLIGHT
BEGIN:STANDARD
TZOFFSETFROM:-0400
TZOFFSETTO:-0500
TZNAME:EST
DTSTART:20261101T060000
END:STANDARD
END:VTIMEZONE
BEGIN:VEVENT
DTSTART;TZID=America/Indiana/Indianapolis:20250308T130000
DTEND;TZID=America/Indiana/Indianapolis:20250308T170000
DTSTAMP:20260424T045233
CREATED:20250117T172759Z
LAST-MODIFIED:20250117T172813Z
UID:10000215-1741438800-1741453200@beerblogin.com
SUMMARY:Bluffton NOW! Brrr Fest
DESCRIPTION:The 9th Annual Bluffton NOW! Brrr Fest is a craft beer and wine-tasting event sponsored by Profed Credit Union. \n\n\n\nLocation: Wells County 4-H Community Center 1224 4-H Park Rd\, Bluffton\, IN 46714 \n\n\n\nSilent Auction\, Food\, and Music at the event. \n\n\n\n\n\n\n\n\n\n\n\n\n\n\n	Related
URL:https://beerblogin.com/event/bluffton-now-brrr-fest/
LOCATION:Wells County Community Center\, 1240 4H Park Road\, Bluffton\, Indiana\, 46714
END:VEVENT
END:VCALENDAR