BEGIN:VCALENDAR
VERSION:2.0
PRODID:-//beerblogIN - ECPv6.15.20//NONSGML v1.0//EN
CALSCALE:GREGORIAN
METHOD:PUBLISH
X-ORIGINAL-URL:https://beerblogin.com
X-WR-CALDESC:Events for beerblogIN
REFRESH-INTERVAL;VALUE=DURATION:PT1H
X-Robots-Tag:noindex
X-PUBLISHED-TTL:PT1H
BEGIN:VTIMEZONE
TZID:America/Indiana/Indianapolis
BEGIN:DAYLIGHT
TZOFFSETFROM:-0500
TZOFFSETTO:-0400
TZNAME:EDT
DTSTART:20220313T070000
END:DAYLIGHT
BEGIN:STANDARD
TZOFFSETFROM:-0400
TZOFFSETTO:-0500
TZNAME:EST
DTSTART:20221106T060000
END:STANDARD
BEGIN:DAYLIGHT
TZOFFSETFROM:-0500
TZOFFSETTO:-0400
TZNAME:EDT
DTSTART:20230312T070000
END:DAYLIGHT
BEGIN:STANDARD
TZOFFSETFROM:-0400
TZOFFSETTO:-0500
TZNAME:EST
DTSTART:20231105T060000
END:STANDARD
BEGIN:DAYLIGHT
TZOFFSETFROM:-0500
TZOFFSETTO:-0400
TZNAME:EDT
DTSTART:20240310T070000
END:DAYLIGHT
BEGIN:STANDARD
TZOFFSETFROM:-0400
TZOFFSETTO:-0500
TZNAME:EST
DTSTART:20241103T060000
END:STANDARD
END:VTIMEZONE
BEGIN:VEVENT
DTSTART;TZID=America/Indiana/Indianapolis:20230812T140000
DTEND;TZID=America/Indiana/Indianapolis:20230812T190000
DTSTAMP:20260424T044840
CREATED:20230811T175646Z
LAST-MODIFIED:20230811T175651Z
UID:10000158-1691848800-1691866800@beerblogin.com
SUMMARY:INDY CHICKEN & BEER FEST
DESCRIPTION:We team up with our favorite local restaurants\, chefs\, and brewers for a one-day festival that is sure to be remembered! Chicken and Beer are among the most beloved items in the world and deserve the highest celebration! Expect great music\, good food\, a hot wing eating contest\, and fun activities for you and your crew. \n\n\n\nSamples from vendors are included in each ticket. Extra sample tickets will be available for purchase. This is an outdoor event and you MUST BE 21+ to ATTEND! Please expect lines! Please anticipate restaurants selling out of food! \n\n\n\nParticipating Restaurants:\n\n\n\n\nGALLERY PASTRY BAR\n\n\n\nGALLERY PASTRY SHOP\n\n\n\nGALLERY ON 16TH\n\n\n\nOPEN KITCHEN\n\n\n\nHUGE IMPACT\n\n\n\nEARL B’S CATERING\n\n\n\nEVERYTHING & POTATOES\n\n\n\nJOELLA’S HOT CHICKEN\n\n\n\nSHANI’S SECRET CHICKEN\n\n\n\nASH & ELM CIDER\n\n\n\nALE EMPORIUM\n\n\n\nHERCULEAN MEAL PREP\n\n\n\nHOPCAT\n\n\n\nSAMOSA N SAUCE\n\n\n\nKS KRAZYEATZ\n\n\n\nCHICKEN SCRATCH\n\n\n\nUPLAND BREWING CO.\n\n\n\nPIES AND PINTS\n\n\n\nPAUL’S KITCHEN\n\n\n\nTASTE OF INNOVA WINGS + GREENS\n\n\n\nCOMIDA\n\n\n\nTUPELO HONEY\n\n\n\nOHANALULU\n\n\n\nBUBBA’S 33\n\n\n\nC﻿LUSTERTRUCK\n\n\n\nFILLERS – STUFFED BURGERS\n\n\n\nT﻿’DAY’S JERK\n\n\n\nHALF LITER BBQ\n\n\n\nTEEJAY’S SWEET TOOTH (AFTER HOURS)\n\n\n\nCAVITY FACTORY (AFTER HOURS)\n\n\n\n\nParticipating Breweries & Beverages:\n\n\n\n\nMOONTOWN BREWERY\n\n\n\nGOODWOOD BREWING\n\n\n\nDRINK HIGH & MIGHTY\n\n\n\nASH & ELM CIDER CO\n\n\n\n450 NORTH BREWING\n\n\n\nSUN KING BREWERY\n\n\n\nUPLAND BREWING CO.\n\n\n\nGUGGMAN HAUS BREWING CO.\n\n\n\nWE’RE POPP’IN POPCORN AND LEMONADE\n\n\n\n2﻿TOM’S BREWING COMPANY\n\n\n\nBIG LUG BREWING\n\n\n\nNOWHERE SPECIAL\n\n\n\n\n\n\n\n\n\n\n \n\n\n\n\n\n\n\n\n	Related
URL:https://beerblogin.com/event/indy-chicken-beer-fest/
LOCATION:The Cradle at Monon 30\, 1118 E 30th St\, Indianapolis\, Indiana\, 46205
END:VEVENT
END:VCALENDAR