BEGIN:VCALENDAR
VERSION:2.0
PRODID:-//beerblogIN - ECPv6.15.20//NONSGML v1.0//EN
CALSCALE:GREGORIAN
METHOD:PUBLISH
X-ORIGINAL-URL:https://beerblogin.com
X-WR-CALDESC:Events for beerblogIN
REFRESH-INTERVAL;VALUE=DURATION:PT1H
X-Robots-Tag:noindex
X-PUBLISHED-TTL:PT1H
BEGIN:VTIMEZONE
TZID:America/Indiana/Indianapolis
BEGIN:DAYLIGHT
TZOFFSETFROM:-0500
TZOFFSETTO:-0400
TZNAME:EDT
DTSTART:20240310T070000
END:DAYLIGHT
BEGIN:STANDARD
TZOFFSETFROM:-0400
TZOFFSETTO:-0500
TZNAME:EST
DTSTART:20241103T060000
END:STANDARD
BEGIN:DAYLIGHT
TZOFFSETFROM:-0500
TZOFFSETTO:-0400
TZNAME:EDT
DTSTART:20250309T070000
END:DAYLIGHT
BEGIN:STANDARD
TZOFFSETFROM:-0400
TZOFFSETTO:-0500
TZNAME:EST
DTSTART:20251102T060000
END:STANDARD
BEGIN:DAYLIGHT
TZOFFSETFROM:-0500
TZOFFSETTO:-0400
TZNAME:EDT
DTSTART:20260308T070000
END:DAYLIGHT
BEGIN:STANDARD
TZOFFSETFROM:-0400
TZOFFSETTO:-0500
TZNAME:EST
DTSTART:20261101T060000
END:STANDARD
END:VTIMEZONE
BEGIN:VEVENT
DTSTART;TZID=America/Indiana/Indianapolis:20251010T173000
DTEND;TZID=America/Indiana/Indianapolis:20251010T210000
DTSTAMP:20260423T180632
CREATED:20250918T191452Z
LAST-MODIFIED:20250918T191457Z
UID:10000274-1760117400-1760130000@beerblogin.com
SUMMARY:Ghouls & Goblets
DESCRIPTION:Join us for spooky stories in downtown Seymour and tastes of wines and local brews on October 10th from 6-9pm for our 8th annual Ghouls and Goblets event. Tickets are $20 in advance and $25 at the door. Tickets include unlimited samples\, entry to the ghoulish tales\, and a commemorative mini goblet. \n\n\n\n*Check in 5:30-7pm at The Copper Top 100 St Louis Ave. in downtown Seymour\, IN. \n\n\n\n*Pick up map and tasting Goblet and hit the town!! \n\n\n\nThere will be multiple sip and story locations\, and dining options downtown restaurants! \n\n\n\n***This event is for ages 21+*** \n\n\n\nBrought to you by Seymour Main Street and Roger Wessel-Berkshire Hathaway. \n\n\n\n\n\n\n\n\n\n\n\n\n\n\n	Related
URL:https://beerblogin.com/event/ghouls-goblets-2/
LOCATION:The Copper Top\, 100 Saint Louis Avenue\, Seymour\, Indiana\, 47274
END:VEVENT
END:VCALENDAR