BEGIN:VCALENDAR
VERSION:2.0
PRODID:-//beerblogIN - ECPv6.15.20//NONSGML v1.0//EN
CALSCALE:GREGORIAN
METHOD:PUBLISH
X-WR-CALNAME:beerblogIN
X-ORIGINAL-URL:https://beerblogin.com
X-WR-CALDESC:Events for beerblogIN
REFRESH-INTERVAL;VALUE=DURATION:PT1H
X-Robots-Tag:noindex
X-PUBLISHED-TTL:PT1H
BEGIN:VTIMEZONE
TZID:America/Indiana/Indianapolis
BEGIN:DAYLIGHT
TZOFFSETFROM:-0500
TZOFFSETTO:-0400
TZNAME:EDT
DTSTART:20220313T070000
END:DAYLIGHT
BEGIN:STANDARD
TZOFFSETFROM:-0400
TZOFFSETTO:-0500
TZNAME:EST
DTSTART:20221106T060000
END:STANDARD
BEGIN:DAYLIGHT
TZOFFSETFROM:-0500
TZOFFSETTO:-0400
TZNAME:EDT
DTSTART:20230312T070000
END:DAYLIGHT
BEGIN:STANDARD
TZOFFSETFROM:-0400
TZOFFSETTO:-0500
TZNAME:EST
DTSTART:20231105T060000
END:STANDARD
BEGIN:DAYLIGHT
TZOFFSETFROM:-0500
TZOFFSETTO:-0400
TZNAME:EDT
DTSTART:20240310T070000
END:DAYLIGHT
BEGIN:STANDARD
TZOFFSETFROM:-0400
TZOFFSETTO:-0500
TZNAME:EST
DTSTART:20241103T060000
END:STANDARD
END:VTIMEZONE
BEGIN:VEVENT
DTSTART;TZID=America/Indiana/Indianapolis:20230429T130000
DTEND;TZID=America/Indiana/Indianapolis:20230429T170000
DTSTAMP:20260424T021741
CREATED:20230324T012428Z
LAST-MODIFIED:20230324T012433Z
UID:10000127-1682773200-1682787600@beerblogin.com
SUMMARY:HAUTE HOPS & VINES FEST 
DESCRIPTION:Terre Haute’s own 3 Sisters Investments\, in partnership with Indiana On Tap & OnTapTickets\, is excited to present the 2nd Annual ‘Haute Hops & Vines Fest’ on Saturday\, April 29th from 1pm – 5pm at Terre Haute’s Historic Brewing District. \n\n\n\nLAST YEAR’S EVENT SOLD OUT IN ADVANCE! PURCHASE YOUR TICKETS SOON TO SECURE YOUR SPOT. \n\n\n\nThe 2023 event will again feature UNLIMITED SAMPLES & POURS from 25+ Indiana craft breweries\, wineries & distilleries from all over the state and beyond! All attendees will receive a tasting cup when they arrive to enjoy as many of the estimated 100+ unique beers\, wines and spirits as they would like (while meeting and getting to know these breweries/wineries/distilleries and their own unique stories along the way). \n\n\n\nThe event will take place outdoors just south of downtown at the unique Historic Brewing District on S. 9th Street between Terre Haute Brewing Co. and Afterburner Brewing\, next to fine dining options and ample free parking! \n\n\n\nLIVE MUSIC will complement the event from the big stage and great food will be available for purchase from multiple food trucks! \n\n\n\nCome out and enjoy one of the very few craft beer\, wine & spirits festivals that takes place in this part of the state! Make no mistake\, this festival is going to be another party that you absolutely don’t want to miss!  \n\n\n\nGates will open for VIP entry at 1pm\, with General Admission entry beginning at 2pm. VIP ticket buyers will have an extra hour to enjoy the event with shorter lines. Designated Drivers must purchase tickets AT the gate the day of the event and may enter the event at any time. \n\n\n\nTickets are now on sale with an opportunity to buy online\, in advance\, and save big! \n\n\n\nEarly Bird Tickets (Available until March 1st) VIP – $35 | GA – $30 \n\n\n\nAdvance Sale Tickets (Available from March 1st – April 29th) VIP – $40 | GA – $35 \n\n\n\nGate Sales (Available day of event if tickets are still available) VIP – $50 | GA – $40 | DD – $20 \n\n\n\nDesignated Drivers will not be allowed to sample any of the craft beer\, wine or spirits\, but can receive free water & soda. DD tickets must be purchased at the gate the day of the event\, at $20 each. \n\n\n\nThis is a 21+ event. All attendees must show a valid photo I.D. at the gate. You must be 21 years or older to attend—this includes Designated Drivers. ALL TICKET SALES ARE FINAL. The event will be held rain or shine. \n\n\n\n\n\n\n\n\n\n\n\n\n\n\n\n\n	Related
URL:https://beerblogin.com/event/haute-hops-vines-fest/
LOCATION:Terre Haute Historic Brewing District\, 401-629 S. 9th Street\, Terre Haute\, Indiana\, 47807
END:VEVENT
END:VCALENDAR