BEGIN:VCALENDAR
VERSION:2.0
PRODID:-//beerblogIN - ECPv6.15.20//NONSGML v1.0//EN
CALSCALE:GREGORIAN
METHOD:PUBLISH
X-WR-CALNAME:beerblogIN
X-ORIGINAL-URL:https://beerblogin.com
X-WR-CALDESC:Events for beerblogIN
REFRESH-INTERVAL;VALUE=DURATION:PT1H
X-Robots-Tag:noindex
X-PUBLISHED-TTL:PT1H
BEGIN:VTIMEZONE
TZID:America/Indiana/Indianapolis
BEGIN:DAYLIGHT
TZOFFSETFROM:-0500
TZOFFSETTO:-0400
TZNAME:EDT
DTSTART:20220313T070000
END:DAYLIGHT
BEGIN:STANDARD
TZOFFSETFROM:-0400
TZOFFSETTO:-0500
TZNAME:EST
DTSTART:20221106T060000
END:STANDARD
BEGIN:DAYLIGHT
TZOFFSETFROM:-0500
TZOFFSETTO:-0400
TZNAME:EDT
DTSTART:20230312T070000
END:DAYLIGHT
BEGIN:STANDARD
TZOFFSETFROM:-0400
TZOFFSETTO:-0500
TZNAME:EST
DTSTART:20231105T060000
END:STANDARD
BEGIN:DAYLIGHT
TZOFFSETFROM:-0500
TZOFFSETTO:-0400
TZNAME:EDT
DTSTART:20240310T070000
END:DAYLIGHT
BEGIN:STANDARD
TZOFFSETFROM:-0400
TZOFFSETTO:-0500
TZNAME:EST
DTSTART:20241103T060000
END:STANDARD
END:VTIMEZONE
BEGIN:VEVENT
DTSTART;TZID=America/Indiana/Indianapolis:20230429T170000
DTEND;TZID=America/Indiana/Indianapolis:20230429T210000
DTSTAMP:20260424T033033
CREATED:20230324T014312Z
LAST-MODIFIED:20230324T014317Z
UID:10000128-1682787600-1682802000@beerblogin.com
SUMMARY:BOTTLECAPS & CORKS 
DESCRIPTION:Don’t miss Northern Indiana’s only homebrew festival!\n\n\n\nFeaturing dozens of beers and wines made by talented local brewers and vintners\, Bottlecaps & Corks is a fundraiser to benefit St. Thomas school\, the Vine Initiative\, and the Matamba Project. The event will include a tasting glass to take home\, the chance to vote on your favorite entries\, local food trucks\, information about making beer and wine at home\, and more! \n\n\n\nGeneral Admission: 6pm – 9pm \n\n\n\nVIP Entry an hour early – featuring exclusive beer and wine samples \n\n\n\nQuestions? Reach out to Andrew at ElkhartHomeBrew@gmail.com \n\n\n\n\n\n\n\n\n\n\n\n\n\n\n	Related
URL:https://beerblogin.com/event/bottlecaps-corks/
LOCATION:St. Thomas the Apostle School Gym\, 1331 North Main Street\, Elkhart\, Indiana\, 46514
END:VEVENT
END:VCALENDAR