BEGIN:VCALENDAR
VERSION:2.0
PRODID:-//beerblogIN - ECPv6.15.20//NONSGML v1.0//EN
CALSCALE:GREGORIAN
METHOD:PUBLISH
X-WR-CALNAME:beerblogIN
X-ORIGINAL-URL:https://beerblogin.com
X-WR-CALDESC:Events for beerblogIN
REFRESH-INTERVAL;VALUE=DURATION:PT1H
X-Robots-Tag:noindex
X-PUBLISHED-TTL:PT1H
BEGIN:VTIMEZONE
TZID:America/Indiana/Indianapolis
BEGIN:DAYLIGHT
TZOFFSETFROM:-0500
TZOFFSETTO:-0400
TZNAME:EDT
DTSTART:20240310T070000
END:DAYLIGHT
BEGIN:STANDARD
TZOFFSETFROM:-0400
TZOFFSETTO:-0500
TZNAME:EST
DTSTART:20241103T060000
END:STANDARD
BEGIN:DAYLIGHT
TZOFFSETFROM:-0500
TZOFFSETTO:-0400
TZNAME:EDT
DTSTART:20250309T070000
END:DAYLIGHT
BEGIN:STANDARD
TZOFFSETFROM:-0400
TZOFFSETTO:-0500
TZNAME:EST
DTSTART:20251102T060000
END:STANDARD
BEGIN:DAYLIGHT
TZOFFSETFROM:-0500
TZOFFSETTO:-0400
TZNAME:EDT
DTSTART:20260308T070000
END:DAYLIGHT
BEGIN:STANDARD
TZOFFSETFROM:-0400
TZOFFSETTO:-0500
TZNAME:EST
DTSTART:20261101T060000
END:STANDARD
END:VTIMEZONE
BEGIN:VEVENT
DTSTART;TZID=America/Indiana/Indianapolis:20251011T140000
DTEND;TZID=America/Indiana/Indianapolis:20251011T180000
DTSTAMP:20260423T161746
CREATED:20250918T194203Z
LAST-MODIFIED:20250918T194209Z
UID:10000275-1760191200-1760205600@beerblogin.com
SUMMARY:Pumpkin\, Cider & Fall Beer Fest
DESCRIPTION:Union Jack Pub Broad Ripple is excited to present the return of their popular Pumpkin\, Cider & Fall Beer Fest–the only event of its kind in all of Indiana with an exclusive focus on Pumpkin\, Cider\, and Fall beers from all over the U.S. The 2025 event will take place on Saturday\, October 11th from 2pm – 6pm. The event will again be hosted at Opti-Park in Broad Ripple. \n\n\n\nThe event will again include UNLIMITED POURS of all beer and cider during the fest!  \n\n\n\nMore than 80 unique pumpkin\, cider\, and fall beers will be on deck and ready to sample. There will again be a VIP option for attendees to enjoy an extra hour of drinking with shorter lines. \n\n\n\nVIP ticket buyers will also receive a commemorative tasting glass to take home in addition to a $5 Union Jack Pub gift certificate! \n\n\n\nVIP entry will begin at 2pm\, with General Admission entry beginning at 3pm. The event will conclude at 6pm. Designated Drivers will have access to FREE water and soda all day. If it’s chilly\, coffee will be available as well. A food truck will be on site. \n\n\n\nTickets are now on sale with an opportunity to buy online\, in advance\, and save! \n\n\n\nThis is a 21+ event. All attendees must show a valid photo I.D. at the gate upon entry. You must be 21 years or older to attend–this includes Designated Drivers. No exceptions. All tickets sales are final. This event will be held rain or shine. Please drink responsibly \n\n\n\n\n\n\n\n\n\n\n\n\n\n\n	Related
URL:https://beerblogin.com/event/pumpkin-cider-fall-beer-fest-2/
LOCATION:Opti-Park\, 780 E. 66th Street\, Indianapolis\, Indiana\, 46220
END:VEVENT
END:VCALENDAR