BEGIN:VCALENDAR
VERSION:2.0
PRODID:-//beerblogIN - ECPv6.15.20//NONSGML v1.0//EN
CALSCALE:GREGORIAN
METHOD:PUBLISH
X-WR-CALNAME:beerblogIN
X-ORIGINAL-URL:https://beerblogin.com
X-WR-CALDESC:Events for beerblogIN
REFRESH-INTERVAL;VALUE=DURATION:PT1H
X-Robots-Tag:noindex
X-PUBLISHED-TTL:PT1H
BEGIN:VTIMEZONE
TZID:America/Indiana/Indianapolis
BEGIN:DAYLIGHT
TZOFFSETFROM:-0500
TZOFFSETTO:-0400
TZNAME:EDT
DTSTART:20240310T070000
END:DAYLIGHT
BEGIN:STANDARD
TZOFFSETFROM:-0400
TZOFFSETTO:-0500
TZNAME:EST
DTSTART:20241103T060000
END:STANDARD
BEGIN:DAYLIGHT
TZOFFSETFROM:-0500
TZOFFSETTO:-0400
TZNAME:EDT
DTSTART:20250309T070000
END:DAYLIGHT
BEGIN:STANDARD
TZOFFSETFROM:-0400
TZOFFSETTO:-0500
TZNAME:EST
DTSTART:20251102T060000
END:STANDARD
BEGIN:DAYLIGHT
TZOFFSETFROM:-0500
TZOFFSETTO:-0400
TZNAME:EDT
DTSTART:20260308T070000
END:DAYLIGHT
BEGIN:STANDARD
TZOFFSETFROM:-0400
TZOFFSETTO:-0500
TZNAME:EST
DTSTART:20261101T060000
END:STANDARD
END:VTIMEZONE
BEGIN:VEVENT
DTSTART;TZID=America/Indiana/Indianapolis:20250920T140000
DTEND;TZID=America/Indiana/Indianapolis:20250920T220000
DTSTAMP:20260423T200229
CREATED:20250917T195321Z
LAST-MODIFIED:20250917T195326Z
UID:10000259-1758376800-1758405600@beerblogin.com
SUMMARY:Moontown Brewing Oktoberfest
DESCRIPTION:Loosen up those Lederhosen and dig out those Dirndls! Moontown’s EIGHTH Oktoberfest is back on Saturday\, September 20th! \n\n\n\nSpecial beer tappings\, German-inspired food\, stein holding competition\, polka music with Indy Polkamotion…and more! \n\n\n\nTickets: FREE TO ATTEND \n\n\n\nLive Music: Indy Polkamotion from 7-10PM \n\n\n\nSpecial Beer tappings including our Gold Medal winning\, world renowned Oktoberfest Lager: Follow the Ledorhosen \n\n\n\nGerman inspired menu \n\n\n\n2-10PM \n\n\n\nThis event is 21+. There will be a kid-friendly\, Little Lederhosen celebration on Sunday\, 9/21. \n\n\n\n\n\n\n\n\n\n\n\n\n\n\n\n\n\n\n	Related
URL:https://beerblogin.com/event/moontown-brewing-oktoberfest/
LOCATION:Moontown Brewing\, 345 S. Bowers St.\, Whitestown\, IN\, 46075\, United States
END:VEVENT
END:VCALENDAR