BEGIN:VCALENDAR
VERSION:2.0
PRODID:-//beerblogIN - ECPv6.15.20//NONSGML v1.0//EN
CALSCALE:GREGORIAN
METHOD:PUBLISH
X-ORIGINAL-URL:https://beerblogin.com
X-WR-CALDESC:Events for beerblogIN
REFRESH-INTERVAL;VALUE=DURATION:PT1H
X-Robots-Tag:noindex
X-PUBLISHED-TTL:PT1H
BEGIN:VTIMEZONE
TZID:America/Indiana/Indianapolis
BEGIN:DAYLIGHT
TZOFFSETFROM:-0500
TZOFFSETTO:-0400
TZNAME:EDT
DTSTART:20220313T070000
END:DAYLIGHT
BEGIN:STANDARD
TZOFFSETFROM:-0400
TZOFFSETTO:-0500
TZNAME:EST
DTSTART:20221106T060000
END:STANDARD
BEGIN:DAYLIGHT
TZOFFSETFROM:-0500
TZOFFSETTO:-0400
TZNAME:EDT
DTSTART:20230312T070000
END:DAYLIGHT
BEGIN:STANDARD
TZOFFSETFROM:-0400
TZOFFSETTO:-0500
TZNAME:EST
DTSTART:20231105T060000
END:STANDARD
BEGIN:DAYLIGHT
TZOFFSETFROM:-0500
TZOFFSETTO:-0400
TZNAME:EDT
DTSTART:20240310T070000
END:DAYLIGHT
BEGIN:STANDARD
TZOFFSETFROM:-0400
TZOFFSETTO:-0500
TZNAME:EST
DTSTART:20241103T060000
END:STANDARD
BEGIN:DAYLIGHT
TZOFFSETFROM:-0500
TZOFFSETTO:-0400
TZNAME:EDT
DTSTART:20250309T070000
END:DAYLIGHT
BEGIN:STANDARD
TZOFFSETFROM:-0400
TZOFFSETTO:-0500
TZNAME:EST
DTSTART:20251102T060000
END:STANDARD
BEGIN:DAYLIGHT
TZOFFSETFROM:-0500
TZOFFSETTO:-0400
TZNAME:EDT
DTSTART:20260308T070000
END:DAYLIGHT
BEGIN:STANDARD
TZOFFSETFROM:-0400
TZOFFSETTO:-0500
TZNAME:EST
DTSTART:20261101T060000
END:STANDARD
END:VTIMEZONE
BEGIN:VEVENT
DTSTART;TZID=America/Indiana/Indianapolis:20250927T120000
DTEND;TZID=America/Indiana/Indianapolis:20250927T200000
DTSTAMP:20260423T194347
CREATED:20250917T212340Z
LAST-MODIFIED:20250917T212346Z
UID:10000265-1758974400-1759003200@beerblogin.com
SUMMARY:Barktoberfest
DESCRIPTION:Barktoberfest is back Sept. 27th!  \n\n\n\n\n\n\n\n\n\n\n\n Join us for live music\, tasty bites from the food truck\, a stein holding contest\, and the main event—wiener dog races!  \n\n\n\n\n\n\n\n\n\n\n\n Think your pup has what it takes? Sign your (wiener) dog up through the link: https://docs.google.com/…/1FAIpQLSe1khygyfd…/viewform… \n\n\n\n\n\n\n\n\n\n\n\n\n\n\n	Related
URL:https://beerblogin.com/event/barktoberfest/
LOCATION:Metazoa Brewing\, 140 South College Avenue\, Indianapolis\, IN\, 46202\, United States
END:VEVENT
BEGIN:VEVENT
DTSTART;TZID=America/Indiana/Indianapolis:20240921T110000
DTEND;TZID=America/Indiana/Indianapolis:20240921T220000
DTSTAMP:20260423T194347
CREATED:20240919T163403Z
LAST-MODIFIED:20240919T165449Z
UID:10000197-1726916400-1726956000@beerblogin.com
SUMMARY:METAZOA BARKTOBERFEST PARTY
DESCRIPTION:Join us on September 21 for our Barktoberfest celebration! Enjoy live music\, beer games hosted by Indy City Barbell\, and shop from local vendors. Plus\, don’t miss the exclusive release of our Barktoberfest beer. Bring your pup and enjoy a day of fun\, brews\, and community in our dog-friendly taproom and park. \n\n\n\nLIVE MUSICKyle Hurd Band1-4 p.m.Chandler Carter 5-8 p.m. \n\n\n\nNEW BEERBarktoberfest \n\n\n\nBEER GAMES WITH INDY CITY BARBELLTug-of-War 1-1:45 p.m.Weiner Dog Races 2-3 p.m.Stein Holding Contest 3:30-3:45 p.m.Sack Race 4-4:30 p.m. \n\n\n\nLOCAL VENDORSBJ CrotchetsLove LinksBridget Dean CeramicsHannah’s BandanasMoovin’ & Groomin’ \n\n\n\nFOOD TRUCKThe Bull Grill \n\n\n\nFREQUENTLY ASKED QUESTIONSAre there ID or minimum age requirements to enter? \n\n\n\nYes\, you must be 21 or older to attend the party and/or enter the Metazoa taproom. You must present a valid ID when ordering drinks for yourself — or your friends. \n\n\n\nWhat can I bring to the event? \n\n\n\nMetazoa Brewing Co. is a pet-friendly establishment so you can bring your well-behaved pets on a leash. We have a dog park on-site as well! Additionally\, we encourage you to dress in theme with the event – think leiderhosen\, dirndls\, hats\, and lots of blue and white patterns. DO NOT bring outside beverages: we will have beer\, soda\, and water bottles available on-site. As always\, you are still welcome to bring/order outside snacks or food if the food trucks aren’t a good fit for you. \n\n\n\nWhere can I park? \n\n\n\nWe expect our parking lot to fill up very quickly. Plan to use a ride share app\, walk\, bike\, or drive over and park (for free!) along College Avenue. \n\n\n\n\n\n\n\n\n\n\n\n\n\n\n	Related
URL:https://beerblogin.com/event/metazoa-barktoberfest-party/
LOCATION:Metazoa Brewing\, 140 South College Avenue\, Indianapolis\, IN\, 46202\, United States
END:VEVENT
BEGIN:VEVENT
DTSTART;TZID=America/Indiana/Indianapolis:20230429T110000
DTEND;TZID=America/Indiana/Indianapolis:20230429T230000
DTSTAMP:20260423T194347
CREATED:20230405T163210Z
LAST-MODIFIED:20230405T163215Z
UID:10000150-1682766000-1682809200@beerblogin.com
SUMMARY:METAZOA BREWING 7TH ANNIVERSARY PARTY
DESCRIPTION:Join us for our 7the Anniversary Party on April 29th! For the past seven years\, we’ve welcomed dogs of all shapes and sizes to join their owners in enjoying our hand-crafted and awarding-winning beer. Cheers to Seven Years! \n\n\n\nTo mark this celebration\, we’re bringing you a party tent\, live music\, food trucks\, local vendors\, and as always\, great beer with great dogs. \n\n\n\nD﻿J LINE-UP \n\n\n\n1-2pm Slater Hogan \n\n\n\n2pm-3pm DJ Mes \n\n\n\n3pm-4:30pm Felonious Punk- Live House Music band featuring DJ Slater Hogan with Rob Dixon on Sax and Reggie Bishop on keys. \n\n\n\n4:30pm-6:00pm DJ Mes \n\n\n\nV﻿ENDOR POP-UPS \n\n\n\nL﻿apis Lilly (1-5 p.m.) \n\n\n\nP﻿earls & Jade (1-5 p.m.) \n\n\n\nB﻿ella Couture Carmel (1-5 p.m.) \n\n\n\nC﻿ircles Ice cream (6-9 p.m.) \n\n\n\nSo grab your furry best friend and join us for a day of fun and relaxation while we say cheers to seven years of great beer! \n\n\n\n\n\n\n\n\n\n\n\n\n\n\n	Related
URL:https://beerblogin.com/event/metazoa-brewing-7th-anniversary-party/
LOCATION:Metazoa Brewing\, 140 South College Avenue\, Indianapolis\, IN\, 46202\, United States
END:VEVENT
END:VCALENDAR