BEGIN:VCALENDAR
VERSION:2.0
PRODID:-//beerblogIN - ECPv6.15.20//NONSGML v1.0//EN
CALSCALE:GREGORIAN
METHOD:PUBLISH
X-WR-CALNAME:beerblogIN
X-ORIGINAL-URL:https://beerblogin.com
X-WR-CALDESC:Events for beerblogIN
REFRESH-INTERVAL;VALUE=DURATION:PT1H
X-Robots-Tag:noindex
X-PUBLISHED-TTL:PT1H
BEGIN:VTIMEZONE
TZID:America/Indiana/Indianapolis
BEGIN:DAYLIGHT
TZOFFSETFROM:-0500
TZOFFSETTO:-0400
TZNAME:EDT
DTSTART:20220313T070000
END:DAYLIGHT
BEGIN:STANDARD
TZOFFSETFROM:-0400
TZOFFSETTO:-0500
TZNAME:EST
DTSTART:20221106T060000
END:STANDARD
BEGIN:DAYLIGHT
TZOFFSETFROM:-0500
TZOFFSETTO:-0400
TZNAME:EDT
DTSTART:20230312T070000
END:DAYLIGHT
BEGIN:STANDARD
TZOFFSETFROM:-0400
TZOFFSETTO:-0500
TZNAME:EST
DTSTART:20231105T060000
END:STANDARD
BEGIN:DAYLIGHT
TZOFFSETFROM:-0500
TZOFFSETTO:-0400
TZNAME:EDT
DTSTART:20240310T070000
END:DAYLIGHT
BEGIN:STANDARD
TZOFFSETFROM:-0400
TZOFFSETTO:-0500
TZNAME:EST
DTSTART:20241103T060000
END:STANDARD
END:VTIMEZONE
BEGIN:VEVENT
DTSTART;TZID=America/Indiana/Indianapolis:20230513T120000
DTEND;TZID=America/Indiana/Indianapolis:20230513T160000
DTSTAMP:20260423T231143
CREATED:20230330T161400Z
LAST-MODIFIED:20230330T161406Z
UID:10000136-1683979200-1683993600@beerblogin.com
SUMMARY:KEKIONGA CRAFT FEST 
DESCRIPTION:Welcome to the 2nd Annual Kekionga Craft Fest hosted by Kekionga Craft Company. This event is designed to bring the premier libation producers of Northeast Indiana & beyond to our side of the Fort! \n\n\n\nYour ticket includes unlimited samples from several Indiana breweries/cideries & a commemorative 5oz beer stein. We hope you join us for this unique opportunity to sample several great producers\, while staying close to home! *Event is 21+ \n\n\n\n\n\n\n\n\n\n\n\n\n\n\n	Related
URL:https://beerblogin.com/event/kekionga-craft-fest-2/
LOCATION:Kekionga Craft Company\, 7328 Maysville Rd.\, Fort Wayne\, Indiana\, 46815
END:VEVENT
END:VCALENDAR