BEGIN:VCALENDAR
VERSION:2.0
PRODID:-//beerblogIN - ECPv6.15.20//NONSGML v1.0//EN
CALSCALE:GREGORIAN
METHOD:PUBLISH
X-WR-CALNAME:beerblogIN
X-ORIGINAL-URL:https://beerblogin.com
X-WR-CALDESC:Events for beerblogIN
REFRESH-INTERVAL;VALUE=DURATION:PT1H
X-Robots-Tag:noindex
X-PUBLISHED-TTL:PT1H
BEGIN:VTIMEZONE
TZID:America/Indiana/Indianapolis
BEGIN:DAYLIGHT
TZOFFSETFROM:-0500
TZOFFSETTO:-0400
TZNAME:EDT
DTSTART:20220313T070000
END:DAYLIGHT
BEGIN:STANDARD
TZOFFSETFROM:-0400
TZOFFSETTO:-0500
TZNAME:EST
DTSTART:20221106T060000
END:STANDARD
BEGIN:DAYLIGHT
TZOFFSETFROM:-0500
TZOFFSETTO:-0400
TZNAME:EDT
DTSTART:20230312T070000
END:DAYLIGHT
BEGIN:STANDARD
TZOFFSETFROM:-0400
TZOFFSETTO:-0500
TZNAME:EST
DTSTART:20231105T060000
END:STANDARD
BEGIN:DAYLIGHT
TZOFFSETFROM:-0500
TZOFFSETTO:-0400
TZNAME:EDT
DTSTART:20240310T070000
END:DAYLIGHT
BEGIN:STANDARD
TZOFFSETFROM:-0400
TZOFFSETTO:-0500
TZNAME:EST
DTSTART:20241103T060000
END:STANDARD
END:VTIMEZONE
BEGIN:VEVENT
DTSTART;TZID=America/Indiana/Indianapolis:20231014T120000
DTEND;TZID=America/Indiana/Indianapolis:20231014T160000
DTSTAMP:20260424T015546
CREATED:20231003T192202Z
LAST-MODIFIED:20231003T192207Z
UID:10000188-1697284800-1697299200@beerblogin.com
SUMMARY:BOOS AND BREWS
DESCRIPTION:👻 Calling All Ghouls and Goblins! 👻 \n\n\n\nThis isn’t just your ordinary beer fest—it’s a mystical rendezvous of craft beer aficionados who aren’t afraid to let their inner ghosts and ghouls run wild! Embrace the spirit of the event by donning your most hauntingly creative costumes. Let your imagination run wild as you mingle with fellow attendees\, all dressed to impress in their finest supernatural ensembles. \n\n\n\n🌟 VIP Hour: 12:00 PM – 1:00 PM 🌟 \n\n\n\nFor those seeking the ultimate beer escapade\, VIP Hour is a must-attend experience. From noon till 1pm\, indulge in an exclusive session of taste bud tantalization. VIPs will relish the privilege of sipping on VIP-only brews\, each presented in a keepsake souvenir glass that will forever remind you of this otherworldly event. \n\n\n\n🍺 General Admission: 1:00 PM – 4:00 PM 🍺 \n\n\n\nAs the clock strikes 1pm\, the gates swing open to welcome all eager souls. General Admission ensures access to a spectacular selection of over 50 handpicked brews that span the spectrum of beer styles. From hoppy ales to velvety stouts\, there’s a libation for every palate. Explore\, sample\, and savor to your heart’s content! \n\n\n\n🍻 A Brew Wonderland Awaits 🍻 \n\n\n\nGhost Spot Taproom has curated an eclectic array of local and regional breweries to ensure that your tasting adventure is nothing short of extraordinary. Whether you’re a seasoned beer connoisseur or just beginning your journey into the world of craft brewing\, “Boo’s and Brews” promises to expand your horizons and challenge your taste preferences. \n\n\n\n🍔 Food Trucks Galore! 🍔 \n\n\n\nAn ethereal feast awaits you\, as tantalizing aromas from an array of gourmet food trucks intermingle with the rich scents of the brews. Let your taste buds dance with delight as you pair your chosen beverages with a delectable range of culinary offerings\, elevating your overall experience to new heights. \n\n\n\n🎶 Enchantment in the Air 🎶 \n\n\n\nAs you indulge in the extraordinary\, your ears will be treated to the bewitching sounds of live entertainment. Musical enchantment will fill the air\, amplifying the festive atmosphere and providing the perfect backdrop for a day of unforgettable revelry. \n\n\n\n﻿✨ Your Next Adventure Awaits at “Boo’s and Brews”! ✨ \n\n\n\nMark your calendar and summon your fellow brew enthusiasts to join you on this unparalleled journey. Tickets are limited\, so secure your spot today! Whether you’re coming in a ghastly getup or simply ready to savor sensational sips\, “Boo’s and Brews” Beer Fest at Ghost Spot Taproom promises an experience that transcends the ordinary. Let’s raise a glass to a day filled with spook-tacular memories! \n\n\n\nVenue Information\n\n\n\nHopLore Ghost Kitchen & Taproom \n\n\n\n\n\n\n\n\n\n\n\n\n\n\n	Related
URL:https://beerblogin.com/event/boos-and-brews/
LOCATION:HopLore Ghost Kitchen & Taproom\, 307 West Market Street\, Warsaw\, Indiana\, 46580
END:VEVENT
END:VCALENDAR