BEGIN:VCALENDAR
VERSION:2.0
PRODID:-//beerblogIN - ECPv6.15.20//NONSGML v1.0//EN
CALSCALE:GREGORIAN
METHOD:PUBLISH
X-WR-CALNAME:beerblogIN
X-ORIGINAL-URL:https://beerblogin.com
X-WR-CALDESC:Events for beerblogIN
REFRESH-INTERVAL;VALUE=DURATION:PT1H
X-Robots-Tag:noindex
X-PUBLISHED-TTL:PT1H
BEGIN:VTIMEZONE
TZID:America/Indiana/Indianapolis
BEGIN:DAYLIGHT
TZOFFSETFROM:-0500
TZOFFSETTO:-0400
TZNAME:EDT
DTSTART:20240310T070000
END:DAYLIGHT
BEGIN:STANDARD
TZOFFSETFROM:-0400
TZOFFSETTO:-0500
TZNAME:EST
DTSTART:20241103T060000
END:STANDARD
BEGIN:DAYLIGHT
TZOFFSETFROM:-0500
TZOFFSETTO:-0400
TZNAME:EDT
DTSTART:20250309T070000
END:DAYLIGHT
BEGIN:STANDARD
TZOFFSETFROM:-0400
TZOFFSETTO:-0500
TZNAME:EST
DTSTART:20251102T060000
END:STANDARD
BEGIN:DAYLIGHT
TZOFFSETFROM:-0500
TZOFFSETTO:-0400
TZNAME:EDT
DTSTART:20260308T070000
END:DAYLIGHT
BEGIN:STANDARD
TZOFFSETFROM:-0400
TZOFFSETTO:-0500
TZNAME:EST
DTSTART:20261101T060000
END:STANDARD
END:VTIMEZONE
BEGIN:VEVENT
DTSTART;TZID=America/Indiana/Indianapolis:20250621T150000
DTEND;TZID=America/Indiana/Indianapolis:20250621T220000
DTSTAMP:20260424T073527
CREATED:20250423T190259Z
LAST-MODIFIED:20250423T190307Z
UID:10000239-1750518000-1750543200@beerblogin.com
SUMMARY:Hogstock 2025: A Day of Live Music & Cold Beer
DESCRIPTION:Hog Molly Brewing Company and Scott Wilson State Farm are teaming up to host their 5th Annual Hogstock: A Day of Live Music and Cold Beer on Saturday\, June 21st from 3-10pm! This year’s event benefits The Arc of Bartholomew County\, an organization that promotes and protects the human rights of people with intellectual and development disabilities. \n\n\n\nMUSIC: \n\n\n\nTaking the stage throughout the event are five incredibly talented & local bands: Pokey Valley\, Blues Underfire\, Big Skies\, 3 Beards Strummin’ Band\, and Cody Ikerd and the Sidewinders! \n\n\n\nFOOD: \n\n\n\nThe Tailgate Kitchen at Hog Molly Brewing \n\n\n\nFood Truck: Junkyard BBQ \n\n\n\nFood Truck: Slop Shop \n\n\n\nDRINKS: \n\n\n\nHog Molly will have their full tap list along with a special Hogstock release\, cider\, NA beer\, wine\, and non-alcoholic drink options. \n\n\n\nTICKETS: \n\n\n\n*100% of ALL TICKET SALES go to The Arc of Bartholomew County* \n\n\n\nPRE-SALE TICKETS (online only): \n\n\n\n$20 Ticket for Entry (Only Available through Friday\, June 20th at 9pm) \n\n\n\n$20 Event T-Shirt by The Tony London Company (Only Available through Monday\, June 9th at 11:59pm with online ticket purchase) \n\n\n\n\nHogstock is family-friendly until 8pm only and tickets are required for everyone including children. After 8pm children will not be allowed at the event. Thank you for understanding!\n\n\n\nPlease bring a lawn chair\n\n\n\nEveryone will receive a wrist band for the duration of the event\, so come and go as you please\n\n\n\nNo outside food or drink permitted\n\n\n\nWater bottles are FREE and there will be a water station provided by Burt’s\n\n\n\nPlease drink responsibly and bring a Designated Driver\, or utilize ridesharing if needed\n\n\n\nNo pets please\, thank you\n\n\n\nTickets are non-refundable\n\n\n\n\n\n\n\n\n\n\n\n\n\n\n\n	Related
URL:https://beerblogin.com/event/hogstock-2025-a-day-of-live-music-cold-beer/
LOCATION:Hog Molly Brewing\, 1405 Hutchins Avenue\, Columbus\, Indiana\, 47201
END:VEVENT
END:VCALENDAR