BEGIN:VCALENDAR
VERSION:2.0
PRODID:-//beerblogIN - ECPv6.15.20//NONSGML v1.0//EN
CALSCALE:GREGORIAN
METHOD:PUBLISH
X-ORIGINAL-URL:https://beerblogin.com
X-WR-CALDESC:Events for beerblogIN
REFRESH-INTERVAL;VALUE=DURATION:PT1H
X-Robots-Tag:noindex
X-PUBLISHED-TTL:PT1H
BEGIN:VTIMEZONE
TZID:America/Indiana/Indianapolis
BEGIN:DAYLIGHT
TZOFFSETFROM:-0500
TZOFFSETTO:-0400
TZNAME:EDT
DTSTART:20220313T070000
END:DAYLIGHT
BEGIN:STANDARD
TZOFFSETFROM:-0400
TZOFFSETTO:-0500
TZNAME:EST
DTSTART:20221106T060000
END:STANDARD
BEGIN:DAYLIGHT
TZOFFSETFROM:-0500
TZOFFSETTO:-0400
TZNAME:EDT
DTSTART:20230312T070000
END:DAYLIGHT
BEGIN:STANDARD
TZOFFSETFROM:-0400
TZOFFSETTO:-0500
TZNAME:EST
DTSTART:20231105T060000
END:STANDARD
BEGIN:DAYLIGHT
TZOFFSETFROM:-0500
TZOFFSETTO:-0400
TZNAME:EDT
DTSTART:20240310T070000
END:DAYLIGHT
BEGIN:STANDARD
TZOFFSETFROM:-0400
TZOFFSETTO:-0500
TZNAME:EST
DTSTART:20241103T060000
END:STANDARD
END:VTIMEZONE
BEGIN:VEVENT
DTSTART;TZID=America/Indiana/Indianapolis:20230722T130000
DTEND;TZID=America/Indiana/Indianapolis:20230722T180000
DTSTAMP:20260424T021140
CREATED:20230720T210159Z
LAST-MODIFIED:20230720T210203Z
UID:10000154-1690030800-1690048800@beerblogin.com
SUMMARY:INDIANA MICROBREWERS FESTIVAL
DESCRIPTION:Join the nonprofit Brewers of Indiana Guild for its 26th annual summer fundraiser\, Indiana Microbrewers Festival\, benefiting Little Red Door Cancer Agency\, on Saturday\, July 22nd\, 2023  from 1:00 – 6:00 p.m. at Historic Military Park at White River State Park in downtown Indianapolis.  Sample hundreds of beers\, ciders\, and craft cocktails made by dozens of Hoosier breweries and guests while enjoying local food\, shopping\, games\, and more. \n\n\n\n\n\n\n\n\n\n\n\n\n\n\n	Related
URL:https://beerblogin.com/event/indiana-microbrewers-festival-2/
LOCATION:Historic Military Park\, 601 W. New York St.\, Indianapolis\, IN\, United States
END:VEVENT
END:VCALENDAR