BEGIN:VCALENDAR
VERSION:2.0
PRODID:-//beerblogIN - ECPv6.15.20//NONSGML v1.0//EN
CALSCALE:GREGORIAN
METHOD:PUBLISH
X-ORIGINAL-URL:https://beerblogin.com
X-WR-CALDESC:Events for beerblogIN
REFRESH-INTERVAL;VALUE=DURATION:PT1H
X-Robots-Tag:noindex
X-PUBLISHED-TTL:PT1H
BEGIN:VTIMEZONE
TZID:America/Indiana/Indianapolis
BEGIN:DAYLIGHT
TZOFFSETFROM:-0500
TZOFFSETTO:-0400
TZNAME:EDT
DTSTART:20240310T070000
END:DAYLIGHT
BEGIN:STANDARD
TZOFFSETFROM:-0400
TZOFFSETTO:-0500
TZNAME:EST
DTSTART:20241103T060000
END:STANDARD
BEGIN:DAYLIGHT
TZOFFSETFROM:-0500
TZOFFSETTO:-0400
TZNAME:EDT
DTSTART:20250309T070000
END:DAYLIGHT
BEGIN:STANDARD
TZOFFSETFROM:-0400
TZOFFSETTO:-0500
TZNAME:EST
DTSTART:20251102T060000
END:STANDARD
BEGIN:DAYLIGHT
TZOFFSETFROM:-0500
TZOFFSETTO:-0400
TZNAME:EDT
DTSTART:20260308T070000
END:DAYLIGHT
BEGIN:STANDARD
TZOFFSETFROM:-0400
TZOFFSETTO:-0500
TZNAME:EST
DTSTART:20261101T060000
END:STANDARD
END:VTIMEZONE
BEGIN:VEVENT
DTSTART;TZID=America/Indiana/Indianapolis:20251018T130000
DTEND;TZID=America/Indiana/Indianapolis:20251018T170000
DTSTAMP:20260423T182717
CREATED:20250918T200034Z
LAST-MODIFIED:20250918T200038Z
UID:10000276-1760792400-1760806800@beerblogin.com
SUMMARY:Hoppy Halloween at Herrmann Brewthers Bierwerks
DESCRIPTION:Hermann Brewthers Bierwerks\, in partnership with Indiana On Tap & OnTapTickets\, is excited to present the RETURN of the popular “Hoppy Halloween” Craft Beer\, Wine & Spirits Fest!  \n\n\n\nThe event returns to its new home at Herrmann Brewthers on Saturday\, Oct. 18th from 1pm – 5pm. \n\n\n\n“Hoppy Halloween” will feature unlimited pours from 20+ Indiana craft breweries\, wineries & distilleries\, live music\, great local food\, local art\, games and more. \n\n\n\nThe event will also play host to a highly-anticipated speciality beer release from Herrmann Brewthers (to be announced soon) to help celebrate their second anniversary at the taproom. \n\n\n\nAttendees are encouraged (but not required) to show up in their favorite Halloween costume. \n\n\n\n*Designated Driver tickets must be purchased at the gate the day of the event (for $20) and includes entry into the event with free water and soda available. Designated Drivers will not be allowed to sample any of the craft beer\, wine or spirits. \n\n\n\nThis is a 21+ event. All attendees must show a valid photo I.D. at the gate. You must be 21 years or older to attend—this includes designated drivers. ALL TICKET SALES ARE FINAL. The event will be held rain or shine. \n\n\n\n\n\n\n\n\n\n\n\n\n\n\n	Related
URL:https://beerblogin.com/event/hoppy-halloween-at-herrmann-brewthers-bierwerks/
LOCATION:Herrmann Brewthers Bierwerks\, 7811 W. Morris Street\, Indianapolis\, Indiana\, 46231
END:VEVENT
END:VCALENDAR