BEGIN:VCALENDAR
VERSION:2.0
PRODID:-//beerblogIN - ECPv6.15.20//NONSGML v1.0//EN
CALSCALE:GREGORIAN
METHOD:PUBLISH
X-ORIGINAL-URL:https://beerblogin.com
X-WR-CALDESC:Events for beerblogIN
REFRESH-INTERVAL;VALUE=DURATION:PT1H
X-Robots-Tag:noindex
X-PUBLISHED-TTL:PT1H
BEGIN:VTIMEZONE
TZID:America/Indiana/Indianapolis
BEGIN:DAYLIGHT
TZOFFSETFROM:-0500
TZOFFSETTO:-0400
TZNAME:EDT
DTSTART:20220313T070000
END:DAYLIGHT
BEGIN:STANDARD
TZOFFSETFROM:-0400
TZOFFSETTO:-0500
TZNAME:EST
DTSTART:20221106T060000
END:STANDARD
BEGIN:DAYLIGHT
TZOFFSETFROM:-0500
TZOFFSETTO:-0400
TZNAME:EDT
DTSTART:20230312T070000
END:DAYLIGHT
BEGIN:STANDARD
TZOFFSETFROM:-0400
TZOFFSETTO:-0500
TZNAME:EST
DTSTART:20231105T060000
END:STANDARD
BEGIN:DAYLIGHT
TZOFFSETFROM:-0500
TZOFFSETTO:-0400
TZNAME:EDT
DTSTART:20240310T070000
END:DAYLIGHT
BEGIN:STANDARD
TZOFFSETFROM:-0400
TZOFFSETTO:-0500
TZNAME:EST
DTSTART:20241103T060000
END:STANDARD
END:VTIMEZONE
BEGIN:VEVENT
DTSTART;TZID=America/Indiana/Indianapolis:20230812T143000
DTEND;TZID=America/Indiana/Indianapolis:20230812T190000
DTSTAMP:20260424T061744
CREATED:20230811T181029Z
LAST-MODIFIED:20230811T181033Z
UID:10000159-1691850600-1691866800@beerblogin.com
SUMMARY:HOPS 4 HOPE
DESCRIPTION:On August 12\, 2023\, the Hope House will hold its 10th Annual ‘Hops 4 Hope’ Craft Beer Tasting Event benefiting the Hope House Homeless Shelter. \n\n\n\nHops 4 Hope allows Hope House to increase awareness of the organizations mission and serve homeless individuals and families from Hancock\, Shelby\, Henry and Rush Counties. Hope House mission is to provide a safe environment\, positive support and advocacy from homeless men\, women and families on their path to self-sufficiency. \n\n\n\nYour support is critical to our success and is greatly appreciated. Please considering joining us for an evening full of friends\, craft beers\, food and music… all while supporting a worthy cause! \n\n\n\nWe look forward to seeing you there! \n\n\n\n**MUST be 21 or older to attend this event \n\n\n\n\n\n\n\n\n\n\n\n\n\n\n	Related
URL:https://beerblogin.com/event/hops-4-hope/
LOCATION:Hancock County 4-H Fairgrounds Exhibit Hall\, 620 N. Apple St.\, Greenfield\, Indiana\, 46140
END:VEVENT
END:VCALENDAR