BEGIN:VCALENDAR
VERSION:2.0
PRODID:-//beerblogIN - ECPv6.15.20//NONSGML v1.0//EN
CALSCALE:GREGORIAN
METHOD:PUBLISH
X-ORIGINAL-URL:https://beerblogin.com
X-WR-CALDESC:Events for beerblogIN
REFRESH-INTERVAL;VALUE=DURATION:PT1H
X-Robots-Tag:noindex
X-PUBLISHED-TTL:PT1H
BEGIN:VTIMEZONE
TZID:America/Indiana/Indianapolis
BEGIN:DAYLIGHT
TZOFFSETFROM:-0500
TZOFFSETTO:-0400
TZNAME:EDT
DTSTART:20220313T070000
END:DAYLIGHT
BEGIN:STANDARD
TZOFFSETFROM:-0400
TZOFFSETTO:-0500
TZNAME:EST
DTSTART:20221106T060000
END:STANDARD
BEGIN:DAYLIGHT
TZOFFSETFROM:-0500
TZOFFSETTO:-0400
TZNAME:EDT
DTSTART:20230312T070000
END:DAYLIGHT
BEGIN:STANDARD
TZOFFSETFROM:-0400
TZOFFSETTO:-0500
TZNAME:EST
DTSTART:20231105T060000
END:STANDARD
BEGIN:DAYLIGHT
TZOFFSETFROM:-0500
TZOFFSETTO:-0400
TZNAME:EDT
DTSTART:20240310T070000
END:DAYLIGHT
BEGIN:STANDARD
TZOFFSETFROM:-0400
TZOFFSETTO:-0500
TZNAME:EST
DTSTART:20241103T060000
END:STANDARD
BEGIN:DAYLIGHT
TZOFFSETFROM:-0500
TZOFFSETTO:-0400
TZNAME:EDT
DTSTART:20250309T070000
END:DAYLIGHT
BEGIN:STANDARD
TZOFFSETFROM:-0400
TZOFFSETTO:-0500
TZNAME:EST
DTSTART:20251102T060000
END:STANDARD
BEGIN:DAYLIGHT
TZOFFSETFROM:-0500
TZOFFSETTO:-0400
TZNAME:EDT
DTSTART:20260308T070000
END:DAYLIGHT
BEGIN:STANDARD
TZOFFSETFROM:-0400
TZOFFSETTO:-0500
TZNAME:EST
DTSTART:20261101T060000
END:STANDARD
END:VTIMEZONE
BEGIN:VEVENT
DTSTART;TZID=America/Indiana/Indianapolis:20250531T130000
DTEND;TZID=America/Indiana/Indianapolis:20250531T170000
DTSTAMP:20260424T003639
CREATED:20250403T170150Z
LAST-MODIFIED:20250403T170155Z
UID:10000235-1748696400-1748710800@beerblogin.com
SUMMARY:Rock the Junction Craft Beer & Music Festival
DESCRIPTION:Grand Junction Brewing Co. is excited to present the 9th Annual ‘Rock the Junction’ Craft Beer & Music Festival on May 31st\, 2025. \n\n\n\nThis ninth-year event will feature approximately 20+ Indiana breweries\, distilleries\, cideries and wineries showcasing some of the state’s best craft beer\, spirits\, cider and wine offerings. In addition\, multiple bands will once again return to the big stage to complement the true music-fest format that helps make this event so unique and special. Bring your appetite as well\, a number of well-known local food trucks will be in attendance. \n\n\n\nVIP entry into the event begins from 1pm – 2pm\, with General Admission entry beginning at 2pm. Designated Drivers may enter the event at any time. VIP tickets include an extra hour to enjoy the event AND first access to enjoy several specialty beers that will likely only last during the VIP hour. \n\n\n\nPassionately focused on its local community\, Grand Junction Brewing Co. created this event with one purpose – giving back. This community mindedness is evident in the brewery’s significant contributions over the past 8 years.  Grand Junction Brewing Co. plans to continue its growth in a locally-focused fashion with a strong emphasis on community. A significant portion of the proceeds from “Rock the Junction” will continue to help fund the Grand Junction Brewing Co. Scholarship Fund that was established in 2017. This fund was created to award two scholarships to deserving graduates of Westfield High School. Past charities have included the Indy Honor Flight\, Westfield Youth Assistance\, and the Children’s Organ Transplant Association. \n\n\n\n\n\n\n\n\n\n\n\n\n\n\n	Related
URL:https://beerblogin.com/event/rock-the-junction-craft-beer-music-festival-4/
LOCATION:Grand Junction Brewing Co.\, 1189 E. 181st St.\, Westfield\, IN\, 46074\, United States
END:VEVENT
BEGIN:VEVENT
DTSTART;TZID=America/Indiana/Indianapolis:20240518T130000
DTEND;TZID=America/Indiana/Indianapolis:20240518T170000
DTSTAMP:20260424T003639
CREATED:20240516T150153Z
LAST-MODIFIED:20240516T150201Z
UID:10000194-1716037200-1716051600@beerblogin.com
SUMMARY:Rock the Junction Craft Beer & Music Festival
DESCRIPTION:Grand Junction Brewing Co. is excited to present the 8th Annual ‘Rock the Junction’ Craft Beer & Music Festival on May 18th\, 2024. \n\n\n\nThis eighth-year event will feature approximately 20+ Indiana breweries\, distilleries\, cideries and wineries showcasing some of the state’s best craft beer\, spirits\, cider and wine offerings. In addition\, multiple bands will once again return to the big stage to complement the true music-fest format that helps make this event so unique and special. Bring your appetite as well\, a number of well-known local food trucks will be in attendance. \n\n\n\nVIP entry into the event begins from 1pm – 2pm\, with General Admission entry beginning at 2pm. Designated Drivers may enter the event at any time. VIP tickets include an extra hour to enjoy the event AND first access to enjoy several specialty beers that will likely only last during the VIP hour. \n\n\n\nPassionately focused on its local community\, Grand Junction Brewing Co. created this event with one purpose – giving back. This community mindedness is evident in the brewery’s significant contributions over the past 8 years.  Grand Junction Brewing Co. plans to continue its growth in a locally-focused fashion with a strong emphasis on community. A significant portion of the proceeds from “Rock the Junction” will continue to help fund the Grand Junction Brewing Co. Scholarship Fund that was established in 2017. This fund was created to award two scholarships to deserving graduates of Westfield High School. Past charities have included the Indy Honor Flight\, Westfield Youth Assistance\, and the Children’s Organ Transplant Association. \n\n\n\n\n\n\n\n\n\n\n\n\n\n\n	Related
URL:https://beerblogin.com/event/rock-the-junction-craft-beer-music-festival-3/
LOCATION:Grand Junction Brewing Co.\, 1189 E. 181st St.\, Westfield\, IN\, 46074\, United States
END:VEVENT
BEGIN:VEVENT
DTSTART;TZID=America/Indiana/Indianapolis:20230513T130000
DTEND;TZID=America/Indiana/Indianapolis:20230513T170000
DTSTAMP:20260424T003639
CREATED:20230330T164615Z
LAST-MODIFIED:20230330T164730Z
UID:10000137-1683982800-1683997200@beerblogin.com
SUMMARY:ROCK THE JUNCTION – CRAFT BEER & MUSIC FESTIVAL
DESCRIPTION:Grand Junction Brewing Co. is excited to present the 7th Annual ‘Rock the Junction’ Craft Beer & Music Festival on May 13th\, 2023. \n\n\n\nThis seventh-year event will feature approximately 20+ Indiana breweries and wineries showcasing some of the state’s best craft beer and wine offerings. In addition\, multiple bands will once again return to the big stage to complement the true music-fest format that helps make this event so unique and special. Bring your appetite as well\, a number of well-known local food trucks will be in attendance. \n\n\n\nVIP entry into the event begins from 1pm – 2pm\, with General Admission entry beginning at 2pm. Designated Drivers may enter the event at any time. VIP tickets include an extra hour to enjoy the event AND first access to enjoy several specialty beers that will likely only last during the VIP hour. \n\n\n\nPassionately focused on its local community\, Grand Junction Brewing Co. created this event with one purpose – giving back. This community mindedness is evident in the brewery’s significant contributions over the past 7 years.  Grand Junction Brewing Co. plans to continue its growth in a locally-focused fashion with a strong emphasis on community. A significant portion of the proceeds from “Rock the Junction” will continue to help fund the Grand Junction Brewing Co. Scholarship Fund that was established in 2017. This fund was created to award two scholarships to deserving graduates of Westfield High School. Past charities have included the Indy Honor Flight\, Westfield Youth Assistance\, and the Children’s Organ Transplant Association. \n\n\n\n\n\n\n\n\n\n\n\n\n\n\n	Related
URL:https://beerblogin.com/event/rock-the-junction-craft-beer-music-festival/
LOCATION:Grand Junction Brewing Co.\, 1189 E. 181st St.\, Westfield\, IN\, 46074\, United States
END:VEVENT
END:VCALENDAR