BEGIN:VCALENDAR
VERSION:2.0
PRODID:-//beerblogIN - ECPv6.15.20//NONSGML v1.0//EN
CALSCALE:GREGORIAN
METHOD:PUBLISH
X-WR-CALNAME:beerblogIN
X-ORIGINAL-URL:https://beerblogin.com
X-WR-CALDESC:Events for beerblogIN
REFRESH-INTERVAL;VALUE=DURATION:PT1H
X-Robots-Tag:noindex
X-PUBLISHED-TTL:PT1H
BEGIN:VTIMEZONE
TZID:America/Indiana/Indianapolis
BEGIN:DAYLIGHT
TZOFFSETFROM:-0500
TZOFFSETTO:-0400
TZNAME:EDT
DTSTART:20220313T070000
END:DAYLIGHT
BEGIN:STANDARD
TZOFFSETFROM:-0400
TZOFFSETTO:-0500
TZNAME:EST
DTSTART:20221106T060000
END:STANDARD
BEGIN:DAYLIGHT
TZOFFSETFROM:-0500
TZOFFSETTO:-0400
TZNAME:EDT
DTSTART:20230312T070000
END:DAYLIGHT
BEGIN:STANDARD
TZOFFSETFROM:-0400
TZOFFSETTO:-0500
TZNAME:EST
DTSTART:20231105T060000
END:STANDARD
BEGIN:DAYLIGHT
TZOFFSETFROM:-0500
TZOFFSETTO:-0400
TZNAME:EDT
DTSTART:20240310T070000
END:DAYLIGHT
BEGIN:STANDARD
TZOFFSETFROM:-0400
TZOFFSETTO:-0500
TZNAME:EST
DTSTART:20241103T060000
END:STANDARD
END:VTIMEZONE
BEGIN:VEVENT
DTSTART;TZID=America/Indiana/Indianapolis:20230708T130000
DTEND;TZID=America/Indiana/Indianapolis:20230708T170000
DTSTAMP:20260423T195807
CREATED:20230330T192903Z
LAST-MODIFIED:20230330T192909Z
UID:10000145-1688821200-1688835600@beerblogin.com
SUMMARY:FOWLER BREW FEST
DESCRIPTION:A premier craft beer festival returns to Bloomington! Fowler Pumpkin Patch of Bloomington\, Indiana is excited to present the 2nd Annual Fowler Brew Fest on Saturday\, July 8th\, 2023! \n\n\n\nThis incredible event will take place from 1pm – 5pm at the picturesque Fowler Pumpkin Patch farm and will feature UNLIMITED SAMPLES from ~20 different Indiana craft breweries\, wineries and distilleries! \n\n\n\nVIP ticket holders will enjoy one hour of sampling before GA attendees join them\, and they will have great parking very close to the festival site. \n\n\n\nAlso enjoy food trucks\, live music (to be announced soon)\, wagon rides and free water! \n\n\n\nTickets are now on sale with an opportunity to save big by buying online\, in advance. \n\n\n\nYou must be 21 years or older to attend the event. NO SMOKING & NO PETS will be allowed. Attendees must show a valid I.D. at the gate. All ticket sales are final. No exceptions. This is a rain or shine event. What are you waiting for? Purchase your tickets today! \n\n\n\n\n\n\n\n\n\n\n\n\n\n\n	Related
URL:https://beerblogin.com/event/fowler-brew-fest-2/
LOCATION:Fowler Pumpkin Patch\, 5060 North Greene County Line Road\, Bloomington\, Indiana\, 47403
END:VEVENT
END:VCALENDAR