BEGIN:VCALENDAR
VERSION:2.0
PRODID:-//beerblogIN - ECPv6.15.20//NONSGML v1.0//EN
CALSCALE:GREGORIAN
METHOD:PUBLISH
X-WR-CALNAME:beerblogIN
X-ORIGINAL-URL:https://beerblogin.com
X-WR-CALDESC:Events for beerblogIN
REFRESH-INTERVAL;VALUE=DURATION:PT1H
X-Robots-Tag:noindex
X-PUBLISHED-TTL:PT1H
BEGIN:VTIMEZONE
TZID:America/Indiana/Indianapolis
BEGIN:DAYLIGHT
TZOFFSETFROM:-0500
TZOFFSETTO:-0400
TZNAME:EDT
DTSTART:20220313T070000
END:DAYLIGHT
BEGIN:STANDARD
TZOFFSETFROM:-0400
TZOFFSETTO:-0500
TZNAME:EST
DTSTART:20221106T060000
END:STANDARD
BEGIN:DAYLIGHT
TZOFFSETFROM:-0500
TZOFFSETTO:-0400
TZNAME:EDT
DTSTART:20230312T070000
END:DAYLIGHT
BEGIN:STANDARD
TZOFFSETFROM:-0400
TZOFFSETTO:-0500
TZNAME:EST
DTSTART:20231105T060000
END:STANDARD
BEGIN:DAYLIGHT
TZOFFSETFROM:-0500
TZOFFSETTO:-0400
TZNAME:EDT
DTSTART:20240310T070000
END:DAYLIGHT
BEGIN:STANDARD
TZOFFSETFROM:-0400
TZOFFSETTO:-0500
TZNAME:EST
DTSTART:20241103T060000
END:STANDARD
END:VTIMEZONE
BEGIN:VEVENT
DTSTART;TZID=America/Indiana/Indianapolis:20230812T120000
DTEND;TZID=America/Indiana/Indianapolis:20230812T220000
DTSTAMP:20260424T044625
CREATED:20230811T163223Z
LAST-MODIFIED:20230811T164222Z
UID:10000156-1691841600-1691877600@beerblogin.com
SUMMARY:HOP YOUR FACE - FOUNTAIN SQUARE BREWING
DESCRIPTION:THIS SATURDAY\, August 12\, 2023 from noon to 10PM\, our annual Hop Your Face Imperial IPA Beer Release\, Music\, and Arts Festival is back and now a BLOCK PARTY with Hyryder headlining\, 11+ bands on 3 stages\, including at our neighbor\, LongShot\, with additional acts like November Swim Club\, Tiger Magic\, and Nate Hammond and Friends! We will have dozens of arts and crafts vendors and a bevy of Food vendors between the Brewery and Longshot including Bazbeaux Pizza Downtown\, Hert’s BBQ\, and Hungry Hippie Hot Dogs.  We have great pre-sale merchandise and beer options\, including a limited run 4-pack of Hop Your Face that includes a variant that will not be sold otherwise. So\, get yours now! Must be 21 or older and show proof of age to enter event. \n\n\n\n\n\n\n\n\n\n\n\n\n\n\n	Related
URL:https://beerblogin.com/event/hop-your-face-fountain-square-brewing/
LOCATION:Fountain Square Brewing\, 1301 Barth Avenue\, Indianapolis\, Indiana\, 46203
END:VEVENT
END:VCALENDAR