BEGIN:VCALENDAR
VERSION:2.0
PRODID:-//beerblogIN - ECPv6.15.20//NONSGML v1.0//EN
CALSCALE:GREGORIAN
METHOD:PUBLISH
X-ORIGINAL-URL:https://beerblogin.com
X-WR-CALDESC:Events for beerblogIN
REFRESH-INTERVAL;VALUE=DURATION:PT1H
X-Robots-Tag:noindex
X-PUBLISHED-TTL:PT1H
BEGIN:VTIMEZONE
TZID:America/Indiana/Indianapolis
BEGIN:DAYLIGHT
TZOFFSETFROM:-0500
TZOFFSETTO:-0400
TZNAME:EDT
DTSTART:20220313T070000
END:DAYLIGHT
BEGIN:STANDARD
TZOFFSETFROM:-0400
TZOFFSETTO:-0500
TZNAME:EST
DTSTART:20221106T060000
END:STANDARD
BEGIN:DAYLIGHT
TZOFFSETFROM:-0500
TZOFFSETTO:-0400
TZNAME:EDT
DTSTART:20230312T070000
END:DAYLIGHT
BEGIN:STANDARD
TZOFFSETFROM:-0400
TZOFFSETTO:-0500
TZNAME:EST
DTSTART:20231105T060000
END:STANDARD
BEGIN:DAYLIGHT
TZOFFSETFROM:-0500
TZOFFSETTO:-0400
TZNAME:EDT
DTSTART:20240310T070000
END:DAYLIGHT
BEGIN:STANDARD
TZOFFSETFROM:-0400
TZOFFSETTO:-0500
TZNAME:EST
DTSTART:20241103T060000
END:STANDARD
END:VTIMEZONE
BEGIN:VEVENT
DTSTART;TZID=America/Indiana/Indianapolis:20230819T160000
DTEND;TZID=America/Indiana/Indianapolis:20230819T220000
DTSTAMP:20260424T032736
CREATED:20230814T210518Z
LAST-MODIFIED:20230814T210522Z
UID:10000165-1692460800-1692482400@beerblogin.com
SUMMARY:NOBLESVILLE BREWBQ
DESCRIPTION:The Noblesville BrewBQ returns for a 7th year. Thanks to the great weather and success of last year\, we hit another record and recently presented a check to the Ivy Tech for funding a full semester of tuition for SIX students at the Hamilton County Campus! We could not be more grateful to our Sponsors\, Vendors\, Volunteers and Ticket Holders! \n\n\n\nJoin us in 2023 on Saturday\, August 19th from 4pm – 10pm. This fun and charitable event allows the community to come together to support a great cause while also sharing their love of BBQ\, Adult Beverages and LIVE music! \n\n\n\nThis delicious event will hold a BBQ tasting contest with an opportunity for attendees to taste some of the best BBQ in the state. The contest will feature an immense array of unique recipes–from across the state. Live music will also be performed throughout the evening from two exciting\, local bands to be announced soon! Enjoy this event knowing that proceeds benefit a great cause! Profits support Noblesville community initiatives with the primary focus being scholarships for local students to attend IVY Tech College at Noblesville campus! \n\n\n\nFor those interested in participating in the cook-off or event sponsorship\, registration is available by visiting http://www.noblesvillerotaryclub.org/brewbq. \n\n\n\nThis is a 21+ event. All attendees must show a valid photo I.D. at the gate. You must be 21 years or older to attend—this includes designated drivers. ALL TICKET SALES ARE FINAL. The event will be held rain or shine. \n\n\n\nBrewery and Wine vendors to be announced soon! \n\n\n\n\n\n\n\n\n\n\n\n\n\n\n	Related
URL:https://beerblogin.com/event/noblesville-brewbq/
LOCATION:Federal Hills Commons\, 175 Logan St.\, Noblesville\, IN\, 46060\, United States
END:VEVENT
END:VCALENDAR