BEGIN:VCALENDAR
VERSION:2.0
PRODID:-//beerblogIN - ECPv6.15.20//NONSGML v1.0//EN
CALSCALE:GREGORIAN
METHOD:PUBLISH
X-WR-CALNAME:beerblogIN
X-ORIGINAL-URL:https://beerblogin.com
X-WR-CALDESC:Events for beerblogIN
REFRESH-INTERVAL;VALUE=DURATION:PT1H
X-Robots-Tag:noindex
X-PUBLISHED-TTL:PT1H
BEGIN:VTIMEZONE
TZID:America/Indiana/Indianapolis
BEGIN:DAYLIGHT
TZOFFSETFROM:-0500
TZOFFSETTO:-0400
TZNAME:EDT
DTSTART:20220313T070000
END:DAYLIGHT
BEGIN:STANDARD
TZOFFSETFROM:-0400
TZOFFSETTO:-0500
TZNAME:EST
DTSTART:20221106T060000
END:STANDARD
BEGIN:DAYLIGHT
TZOFFSETFROM:-0500
TZOFFSETTO:-0400
TZNAME:EDT
DTSTART:20230312T070000
END:DAYLIGHT
BEGIN:STANDARD
TZOFFSETFROM:-0400
TZOFFSETTO:-0500
TZNAME:EST
DTSTART:20231105T060000
END:STANDARD
BEGIN:DAYLIGHT
TZOFFSETFROM:-0500
TZOFFSETTO:-0400
TZNAME:EDT
DTSTART:20240310T070000
END:DAYLIGHT
BEGIN:STANDARD
TZOFFSETFROM:-0400
TZOFFSETTO:-0500
TZNAME:EST
DTSTART:20241103T060000
END:STANDARD
END:VTIMEZONE
BEGIN:VEVENT
DTSTART;TZID=America/Indiana/Indianapolis:20230811T140000
DTEND;TZID=America/Indiana/Indianapolis:20230811T220000
DTSTAMP:20260424T045315
CREATED:20230811T183942Z
LAST-MODIFIED:20230811T184111Z
UID:10000161-1691762400-1691791200@beerblogin.com
SUMMARY:HOPS & VINES FESTIVAL - FRANKLIN
DESCRIPTION:The Schedule\n\n\n\n2 and 7:30 p.m. \n\n\n\nDirty Dancing” movie at the Historic Artcraft Theatre \n\n\n\n5 p.m.Beer and Wine Garden open \n\n\n\nFood trucks in the DriveHubler.com Amphitheater parking lot along with downtown restaurants serving great food \n\n\n\n5 to 6:30 p.m.Happy Enchiladas on the music stage \n\n\n\n7 p.m.The Revelators on the music stage \n\n\n\n10 p.m.Beer and Wine Garden closes \n\n\n\n$5 admission to the Beer and Wine Garden(Must be 21 or older with valid ID) \n\n\n\n$1 beer and wine samples$5 beer and wine full pours \n\n\n\n \n\n\n\n\n\n\n\n\n\n\n\n\n\n\n	Related
URL:https://beerblogin.com/event/hops-vines-festival-franklin/
LOCATION:DriveHubler.com Amphitheater at Youngs Creek Park\, 161 W Monroe St\, Franklin\, Indiana\, 46131
END:VEVENT
END:VCALENDAR