BEGIN:VCALENDAR
VERSION:2.0
PRODID:-//beerblogIN - ECPv6.15.20//NONSGML v1.0//EN
CALSCALE:GREGORIAN
METHOD:PUBLISH
X-ORIGINAL-URL:https://beerblogin.com
X-WR-CALDESC:Events for beerblogIN
REFRESH-INTERVAL;VALUE=DURATION:PT1H
X-Robots-Tag:noindex
X-PUBLISHED-TTL:PT1H
BEGIN:VTIMEZONE
TZID:America/Indiana/Indianapolis
BEGIN:DAYLIGHT
TZOFFSETFROM:-0500
TZOFFSETTO:-0400
TZNAME:EDT
DTSTART:20220313T070000
END:DAYLIGHT
BEGIN:STANDARD
TZOFFSETFROM:-0400
TZOFFSETTO:-0500
TZNAME:EST
DTSTART:20221106T060000
END:STANDARD
BEGIN:DAYLIGHT
TZOFFSETFROM:-0500
TZOFFSETTO:-0400
TZNAME:EDT
DTSTART:20230312T070000
END:DAYLIGHT
BEGIN:STANDARD
TZOFFSETFROM:-0400
TZOFFSETTO:-0500
TZNAME:EST
DTSTART:20231105T060000
END:STANDARD
BEGIN:DAYLIGHT
TZOFFSETFROM:-0500
TZOFFSETTO:-0400
TZNAME:EDT
DTSTART:20240310T070000
END:DAYLIGHT
BEGIN:STANDARD
TZOFFSETFROM:-0400
TZOFFSETTO:-0500
TZNAME:EST
DTSTART:20241103T060000
END:STANDARD
END:VTIMEZONE
BEGIN:VEVENT
DTSTART;TZID=America/Indiana/Indianapolis:20230429T110000
DTEND;TZID=America/Indiana/Indianapolis:20230429T180000
DTSTAMP:20260424T032943
CREATED:20230324T004216Z
LAST-MODIFIED:20230324T005741Z
UID:10000125-1682766000-1682791200@beerblogin.com
SUMMARY:GARDEN GATE WINE\, JAZZ & CRAFT BEER FESTIVAL
DESCRIPTION:The annual Jazz\, Wine\, and Craft Beer event is returning once again in the beautiful Market Street Park in downtown Huntingburg\, Indiana. Festival patrons can enjoy wine and craft beer sampling\, while listening to talented jazz musicians! \n\n\n\nFrom 12pm to 6pm EST\, wine\, craft beer\, and food vendors overtake Market Street Park for festival patrons to enjoy sampling and purchases. Talented jazz ensembles take center stage\, bringing further excitement! \n\n\n\nPURCHASE ONLINE\, IN ADVANCE\, AND SAVE!\n\n\n\nONLINE TICKETS (FOR UNLIMITED SAMPLES OF ALL BEVERAGES) ARE ONLY $20. TICKETS WILL BE AVAILABLE AT THE GATE FOR $25.\n\n\n\nIF YOU’D LIKE TO ATTEND THE EVENT\, BUT NOT SAMPLE ANY BEVERAGES\, GENERAL ADMISSION IS $10.\n\n\n\n18 YEARS AND YOUNGER ARE FREE.\n\n\n\nBe on the lookout for updates as more details on the vendors\, jazz musicians\, and sponsors will be announced as the festival approaches. \n\n\n\nThe Garden Gate Festival is coordinated by the Dubois County Chamber of Commerce\, an organization that serves businesses of all sizes by providing leadership\, advocacy\, and member-to-member collaborative opportunities by working at a county\, regional\, and state level to foster growth and profitability for its members. \n\n\n\nIt is important to note that the Dubois County Chamber of Commerce takes the individual safety of festival patrons into account. If the risk of holding the event becomes too great\, event cancellation or postponement may occur. \n\n\n\n\n\n\n\n \n\n\n\n\n\n\n\n\n	Related
URL:https://beerblogin.com/event/garden-gate-wine-jazz-craft-beer-festival/
LOCATION:Downtown Huntingburg\, 327 East 4th Street\, Huntingburg\, Indiana\, 47542
END:VEVENT
END:VCALENDAR