BEGIN:VCALENDAR
VERSION:2.0
PRODID:-//beerblogIN - ECPv6.15.20//NONSGML v1.0//EN
CALSCALE:GREGORIAN
METHOD:PUBLISH
X-WR-CALNAME:beerblogIN
X-ORIGINAL-URL:https://beerblogin.com
X-WR-CALDESC:Events for beerblogIN
REFRESH-INTERVAL;VALUE=DURATION:PT1H
X-Robots-Tag:noindex
X-PUBLISHED-TTL:PT1H
BEGIN:VTIMEZONE
TZID:America/Indiana/Indianapolis
BEGIN:DAYLIGHT
TZOFFSETFROM:-0500
TZOFFSETTO:-0400
TZNAME:EDT
DTSTART:20220313T070000
END:DAYLIGHT
BEGIN:STANDARD
TZOFFSETFROM:-0400
TZOFFSETTO:-0500
TZNAME:EST
DTSTART:20221106T060000
END:STANDARD
BEGIN:DAYLIGHT
TZOFFSETFROM:-0500
TZOFFSETTO:-0400
TZNAME:EDT
DTSTART:20230312T070000
END:DAYLIGHT
BEGIN:STANDARD
TZOFFSETFROM:-0400
TZOFFSETTO:-0500
TZNAME:EST
DTSTART:20231105T060000
END:STANDARD
BEGIN:DAYLIGHT
TZOFFSETFROM:-0500
TZOFFSETTO:-0400
TZNAME:EDT
DTSTART:20240310T070000
END:DAYLIGHT
BEGIN:STANDARD
TZOFFSETFROM:-0400
TZOFFSETTO:-0500
TZNAME:EST
DTSTART:20241103T060000
END:STANDARD
END:VTIMEZONE
BEGIN:VEVENT
DTSTART;TZID=America/Indiana/Indianapolis:20230729T160000
DTEND;TZID=America/Indiana/Indianapolis:20230729T210000
DTSTAMP:20260424T032738
CREATED:20230324T023647Z
LAST-MODIFIED:20230324T023653Z
UID:10000130-1690646400-1690664400@beerblogin.com
SUMMARY:BREWS ON THE BOULEVARD
DESCRIPTION:Brews on the Boulevard\n\n\n\n4 – 5 p.m. VIP Prime Hour – $505 – 9 p.m. General Tasting Tickets – $30Midtown Plaza\, Northbound and Southbound Monon Boulevard\, Elm Street and Walnut Street \n\n\n\nTwo music stages\, tons of beer sampling\, food for purchase and more! \n\n\n\nThe City of Carmel\, its Carmel Brews & Barrels Trail and Allied Solutions presents Brews on the Boulevard\, the first official beer and wine festival event in Carmel. Breweries from across the state will be serving unlimited samples of beer with the purchase of a Tasting ticket. Tasting tickets can be purchased at CarmelBrewsOnBlvd.com. Sample selections from each brewery with the opportunity to purchase items directly from your favorites. Local food vendors will be present\, exclusive Brews & Barrels Trail giveaways and live entertainment on two stages! \n\n\n\nWith an impressive and growing list of more than a dozen independent craft breweries\, wineries and distilleries\, the City of Carmel launched the Brews & Barrels Trail to help visitors and residents find unique and crafty takes on their favorite adult beverages. \n\n\n\nFrom Sun King Spirits to Danny Boy Beer Works\, Peace Water Winery to Sugar Creek Winery\, there are currently 12 establishments in Carmel’s 50 square miles that create craft beers\, distilled spirits or their own wines. While there are many more fine pubs and restaurants serving great adult beverages\, only those who create their own products are included on the Trail. The list continues to grow with the popularity of independent brewing and opportunities here in Carmel. \n\n\n\n\n\n\n\n\n\n \n\n\n\n\n\n\n\n\n	Related
URL:https://beerblogin.com/event/brews-on-the-boulevard/
LOCATION:Downtown Carmel\, Midtown Plaza\, Northbound and Southbound Monon Boulevard\, Elm Street and Walnut Street\, Carmel\, Indiana\, 46032
END:VEVENT
END:VCALENDAR