BEGIN:VCALENDAR
VERSION:2.0
PRODID:-//beerblogIN - ECPv6.15.20//NONSGML v1.0//EN
CALSCALE:GREGORIAN
METHOD:PUBLISH
X-WR-CALNAME:beerblogIN
X-ORIGINAL-URL:https://beerblogin.com
X-WR-CALDESC:Events for beerblogIN
REFRESH-INTERVAL;VALUE=DURATION:PT1H
X-Robots-Tag:noindex
X-PUBLISHED-TTL:PT1H
BEGIN:VTIMEZONE
TZID:America/Indiana/Indianapolis
BEGIN:DAYLIGHT
TZOFFSETFROM:-0500
TZOFFSETTO:-0400
TZNAME:EDT
DTSTART:20220313T070000
END:DAYLIGHT
BEGIN:STANDARD
TZOFFSETFROM:-0400
TZOFFSETTO:-0500
TZNAME:EST
DTSTART:20221106T060000
END:STANDARD
BEGIN:DAYLIGHT
TZOFFSETFROM:-0500
TZOFFSETTO:-0400
TZNAME:EDT
DTSTART:20230312T070000
END:DAYLIGHT
BEGIN:STANDARD
TZOFFSETFROM:-0400
TZOFFSETTO:-0500
TZNAME:EST
DTSTART:20231105T060000
END:STANDARD
BEGIN:DAYLIGHT
TZOFFSETFROM:-0500
TZOFFSETTO:-0400
TZNAME:EDT
DTSTART:20240310T070000
END:DAYLIGHT
BEGIN:STANDARD
TZOFFSETFROM:-0400
TZOFFSETTO:-0500
TZNAME:EST
DTSTART:20241103T060000
END:STANDARD
BEGIN:DAYLIGHT
TZOFFSETFROM:-0500
TZOFFSETTO:-0400
TZNAME:EDT
DTSTART:20250309T070000
END:DAYLIGHT
BEGIN:STANDARD
TZOFFSETFROM:-0400
TZOFFSETTO:-0500
TZNAME:EST
DTSTART:20251102T060000
END:STANDARD
BEGIN:DAYLIGHT
TZOFFSETFROM:-0500
TZOFFSETTO:-0400
TZNAME:EDT
DTSTART:20260308T070000
END:DAYLIGHT
BEGIN:STANDARD
TZOFFSETFROM:-0400
TZOFFSETTO:-0500
TZNAME:EST
DTSTART:20261101T060000
END:STANDARD
END:VTIMEZONE
BEGIN:VEVENT
DTSTART;TZID=America/Indiana/Indianapolis:20250726T130000
DTEND;TZID=America/Indiana/Indianapolis:20250726T170000
DTSTAMP:20260423T213931
CREATED:20250423T165502Z
LAST-MODIFIED:20250730T173813Z
UID:10000238-1753534800-1753549200@beerblogin.com
SUMMARY:Anderson On Tap
DESCRIPTION:The City of Anderson\, in partnership with Indiana On Tap & OnTapTickets\, is excited to present the 10th Annual Anderson On Tap Craft Beer\, Wine & Spirits Fest on Saturday\, July 26\, 2025 from 1pm – 5pm. \n\n\n\nPresented by Keg-N-Bottle (Madison County’s #1 retail source for beer\, wine & spirits)\, the 2025 event will feature unlimited pours from ~40 Indiana craft breweries\, distilleries & wineries\, live music from 3 different bands throughout the event (all playing at the same time)\, great local food\, local art\, games and more. The event will once again take place in downtown Anderson at the Dickmann Town Center on Meridian Street. \n\n\n\nAll tickets will allow everyone to enjoy the full 4 hours of the event with gates opening at 1pm (1pm – 5pm). \n\n\n\nEvery ticket includes UNLIMITED SAMPLES from ~150 different beers\, wines & spirits\, along with access to the outdoor music and entertainment. Food will be available for purchase from our great food partners! \n\n\n\nLive Music (Bands) and Food Trucks to be announced soon. \n\n\n\n\n\n\n\n\n\n\n\n\n\n\n	Related
URL:https://beerblogin.com/event/anderson-on-tap-2/
LOCATION:Dickmann Town Center\, 1125 Meridian St.\, Anderson\, IN\, 46016\, United States
END:VEVENT
BEGIN:VEVENT
DTSTART;TZID=America/Indiana/Indianapolis:20230624T130000
DTEND;TZID=America/Indiana/Indianapolis:20230624T170000
DTSTAMP:20260423T213931
CREATED:20230330T191242Z
LAST-MODIFIED:20230330T191246Z
UID:10000144-1687611600-1687626000@beerblogin.com
SUMMARY:ANDERSON ON TAP
DESCRIPTION:The City of Anderson\, in partnership with Indiana On Tap & OnTapTickets\, is excited to present the 8th Annual Anderson On Tap Craft Beer\, Wine & Spirits Fest on Saturday\, June 24th\, 2023 from 1pm – 5pm. \n\n\n\nPresented by Keg-N-Bottle (Madison County’s #1 retail source for beer\, wine & spirits)\, the 2023 event will feature unlimited pours from ~40 Indiana craft breweries\, distilleries & wineries\, live music from 3 different bands throughout the event (all playing at the same time)\, great local food\, local art\, games and more. The event will once again take place in downtown Anderson at the Dickmann Town Center on Meridian Street. \n\n\n\nThe sensational cover band\, Common Ground\, will be providing music on the main stage\, with high energy covers of all the hits from the 1970’s to today. The local band\, Fierce\, will be on the 11th Street stage and the sublime mixer DJ 3pm will be on the 12th street stage. \n\n\n\nAll tickets will allow everyone to enjoy the full 4 hours of the event with gates opening at 1pm (1pm – 5pm). \n\n\n\nEvery ticket includes UNLIMITED SAMPLES from ~150 different beers\, wines & spirits\, along with access to the outdoor music and entertainment. Food will be available for purchase from our great food partners! \n\n\n\n\n\n \n\n\n\n\n\n\n\n\n\n\n\n\n	Related
URL:https://beerblogin.com/event/anderson-on-tap/
LOCATION:Dickmann Town Center\, 1125 Meridian St.\, Anderson\, IN\, 46016\, United States
END:VEVENT
END:VCALENDAR