BEGIN:VCALENDAR
VERSION:2.0
PRODID:-//beerblogIN - ECPv6.15.20//NONSGML v1.0//EN
CALSCALE:GREGORIAN
METHOD:PUBLISH
X-WR-CALNAME:beerblogIN
X-ORIGINAL-URL:https://beerblogin.com
X-WR-CALDESC:Events for beerblogIN
REFRESH-INTERVAL;VALUE=DURATION:PT1H
X-Robots-Tag:noindex
X-PUBLISHED-TTL:PT1H
BEGIN:VTIMEZONE
TZID:America/Indiana/Indianapolis
BEGIN:DAYLIGHT
TZOFFSETFROM:-0500
TZOFFSETTO:-0400
TZNAME:EDT
DTSTART:20220313T070000
END:DAYLIGHT
BEGIN:STANDARD
TZOFFSETFROM:-0400
TZOFFSETTO:-0500
TZNAME:EST
DTSTART:20221106T060000
END:STANDARD
BEGIN:DAYLIGHT
TZOFFSETFROM:-0500
TZOFFSETTO:-0400
TZNAME:EDT
DTSTART:20230312T070000
END:DAYLIGHT
BEGIN:STANDARD
TZOFFSETFROM:-0400
TZOFFSETTO:-0500
TZNAME:EST
DTSTART:20231105T060000
END:STANDARD
BEGIN:DAYLIGHT
TZOFFSETFROM:-0500
TZOFFSETTO:-0400
TZNAME:EDT
DTSTART:20240310T070000
END:DAYLIGHT
BEGIN:STANDARD
TZOFFSETFROM:-0400
TZOFFSETTO:-0500
TZNAME:EST
DTSTART:20241103T060000
END:STANDARD
END:VTIMEZONE
BEGIN:VEVENT
DTSTART;TZID=America/Indiana/Indianapolis:20230512T173000
DTEND;TZID=America/Indiana/Indianapolis:20230512T220000
DTSTAMP:20260424T003359
CREATED:20230504T232853Z
LAST-MODIFIED:20230504T232857Z
UID:10000151-1683912600-1683928800@beerblogin.com
SUMMARY:DAREDEVIL INDY LAGERFEST
DESCRIPTION:LagerFest celebrates the arrival of Summer\, race season\, lager beers & food. Join us for an all-ages event  \n\n\n\nLagerFest is back! Live music\, 10+ food trucks\, great lager beers from around the world (and we’ll have cider\, wine and NA options  \n\n\n\nLagerFest ticket holders will receive a wristband that provides access to unlimited beer samples during the festival. All attendees with or without wristbands have the option to purchase beers by the glass. \n\n\n\n*This is a rain or shine event. While most of the event is outside our taproom and covered patio is also part of the festivities \n\n\n\nSpeedway Food Truck Friday is part of Lager Fest \n\n\n\n* Our always popular Food Truck Fridays returns and is part of the Lager Fest event. We plan ot have 10+ food trucks and our always popular taven and bar style pizza from the taproom. All ages\, free to attend and food + craft beer + cider + cocktails are available to purchase. \n\n\n\nA portion of the proceeds from the event will benefit local charities.  \n\n\n\nParticipating Breweries  (subject to change\, check back for breweries being added) \n\n\n\nDaredevil Brewing Co | Speedway\, Indiana \n\n\n\n2nd Shift Brewing | St. Louis\, Missouri \n\n\n\nAndechs Brewery | Andechs\, Germany \n\n\n\nAugustiner Brewery | Munich\, Germany \n\n\n\nAyinger Brewery | Aying\, Germany \n\n\n\nBig Lug Canteen | Indianapolis\, Indiana \n\n\n\nBirrificio Italiano | Limido Comasco\, Italy \n\n\n\nDortmunder Actien-Brauerei | Dortmund\, Germany \n\n\n\nHofbrau Brewery | Munich\, Germany \n\n\n\nJever Brewery | Jever\, Germany \n\n\n\nKöstritzer Brewery | Köstritz\, Germany \n\n\n\nMaplewood Brewery | Chicago\, Illinois \n\n\n\nM﻿etazoa Brewing Company | Indianapolis\, Indiana \n\n\n\nNarrow Gauge Brewing Company | Florissant\, Missouri \n\n\n\nPaulaner Brewing | Munich\, Germany \n\n\n\nPerennial Artisan Ales | St. Louis\, Missouri \n\n\n\nSchlenkerla Brewery | Bamberg\, Germany \n\n\n\nUrban Chestnut Brewing Company | St. Louis\, Missouri \n\n\n\nBrauerei Veltins | Meschede\, Germany \n\n\n\nW﻿esihenstephaner Brewery | Freising\, Germany \n\n\n\nW﻿indmill Brewing | Dyer\, Indiana \n\n\n\n_______________________________________________________________________________________ \n\n\n\nVIP ($35 per person): Everything in the General Admission plus\, plus receive two tickets to select 2 full pint pours from a selection of available lagers. \n\n\n\nGeneral Admission ($25 per person): A General Admission ticket gives you access to the event\, access to unlimited sample pours of a selection of available lager beers\, a commemorative tasting glass\, and access to food trucks that will be participating in the festival.  \n\n\n\nD﻿esignated Drivers – free to attend\, no purchase is required to attend. \n\n\n\nT﻿his is a Rain or Shine event. No refunds. \n\n\n\n\n\n\n\n\n\n\n\n\n	Related
URL:https://beerblogin.com/event/daredevil-indy-lagerfest/
LOCATION:Daredevil Brewing\, 1151 N. Main Street\, Speedway\, IN\, 46224\, United States
END:VEVENT
END:VCALENDAR