BEGIN:VCALENDAR
VERSION:2.0
PRODID:-//beerblogIN - ECPv6.15.20//NONSGML v1.0//EN
CALSCALE:GREGORIAN
METHOD:PUBLISH
X-WR-CALNAME:beerblogIN
X-ORIGINAL-URL:https://beerblogin.com
X-WR-CALDESC:Events for beerblogIN
REFRESH-INTERVAL;VALUE=DURATION:PT1H
X-Robots-Tag:noindex
X-PUBLISHED-TTL:PT1H
BEGIN:VTIMEZONE
TZID:America/Indiana/Indianapolis
BEGIN:DAYLIGHT
TZOFFSETFROM:-0500
TZOFFSETTO:-0400
TZNAME:EDT
DTSTART:20240310T070000
END:DAYLIGHT
BEGIN:STANDARD
TZOFFSETFROM:-0400
TZOFFSETTO:-0500
TZNAME:EST
DTSTART:20241103T060000
END:STANDARD
BEGIN:DAYLIGHT
TZOFFSETFROM:-0500
TZOFFSETTO:-0400
TZNAME:EDT
DTSTART:20250309T070000
END:DAYLIGHT
BEGIN:STANDARD
TZOFFSETFROM:-0400
TZOFFSETTO:-0500
TZNAME:EST
DTSTART:20251102T060000
END:STANDARD
BEGIN:DAYLIGHT
TZOFFSETFROM:-0500
TZOFFSETTO:-0400
TZNAME:EDT
DTSTART:20260308T070000
END:DAYLIGHT
BEGIN:STANDARD
TZOFFSETFROM:-0400
TZOFFSETTO:-0500
TZNAME:EST
DTSTART:20261101T060000
END:STANDARD
END:VTIMEZONE
BEGIN:VEVENT
DTSTART;TZID=America/Indiana/Indianapolis:20250927T100000
DTEND;TZID=America/Indiana/Indianapolis:20250927T220000
DTSTAMP:20260423T200409
CREATED:20250927T141556Z
LAST-MODIFIED:20250927T141604Z
UID:10000282-1758967200-1759010400@beerblogin.com
SUMMARY:Oktoberfest @ Creatures of Habit
DESCRIPTION:Join us at Creatures of Habit Brewing Co. for our Oktoberfest celebration! We’ll be releasing our special Oktoberfest beer\, perfect for the season. Enjoy delicious house-made brats\, savory sauerkraut balls\, and mouthwatering German apple cake. Bring your friends and celebrate Bavarian style with great beer\, food\, and fun! \n\n\n\n\n\n\n\n\n\n\n\n\n\n\n	Related
URL:https://beerblogin.com/event/oktoberfest-creatures-of-habit/
LOCATION:Creatures of Habit Brewing\, 1031 Meridian St.\, Anderson\, IN\, 46016\, United States
END:VEVENT
BEGIN:VEVENT
DTSTART;TZID=America/Indiana/Indianapolis:20250713T120000
DTEND;TZID=America/Indiana/Indianapolis:20250713T210000
DTSTAMP:20260423T200410
CREATED:20250707T202703Z
LAST-MODIFIED:20250707T202710Z
UID:10000250-1752408000-1752440400@beerblogin.com
SUMMARY:Creatures of Habit Brewing Peach Week
DESCRIPTION:Our 5th annual Peach Week is happening at Creatures of Habit July 7-13th! Be sure to come in for our week long tradition of peach-centric food and brews with peaches from The Peach Truck! \n\n\n\nMug Club Monday 4-10pm \n\n\n\nTuesday CLOSED \n\n\n\nWednesday/Thursday 3:30-10pm \n\n\n\nFriday/Saturday 12-10pm \n\n\n\nSunday 12-9pm \n\n\n\nCreatures of Habit Peach Drinks offered: \n\n\n\nPeach Seltzer \n\n\n\nCloudburst: Peach NEIPA \n\n\n\nOrchard Oasis: Peach Sour \n\n\n\nCaramel Pecan Porter \n\n\n\nFor brunch we will have our Peach Bellini Mimosa \n\n\n\nAlso peach wine slushies and two guest taps of peach ciders. Oh\, and NA peach slushies for the kiddos. \n\n\n\n\n\n\n\n\n\n\n\n\n\n\n\n\n\n\n	Related
URL:https://beerblogin.com/event/creatures-of-habit-brewing-peach-week-5/
LOCATION:Creatures of Habit Brewing\, 1031 Meridian St.\, Anderson\, IN\, 46016\, United States
END:VEVENT
BEGIN:VEVENT
DTSTART;TZID=America/Indiana/Indianapolis:20250712T120000
DTEND;TZID=America/Indiana/Indianapolis:20250712T220000
DTSTAMP:20260423T200410
CREATED:20250707T200702Z
LAST-MODIFIED:20250707T202036Z
UID:10000249-1752321600-1752357600@beerblogin.com
SUMMARY:Creatures of Habit Brewing Peach Week
DESCRIPTION:Our 5th annual Peach Week is happening at Creatures of Habit July 7-13th! Be sure to come in for our week long tradition of peach-centric food and brews with peaches from The Peach Truck! \n\n\n\nMug Club Monday 4-10pm \n\n\n\nTuesday CLOSED \n\n\n\nWednesday/Thursday 3:30-10pm \n\n\n\nFriday/Saturday 12-10pm \n\n\n\nSunday 12-9pm \n\n\n\nCreatures of Habit Peach Drinks offered: \n\n\n\nPeach Seltzer \n\n\n\nCloudburst: Peach NEIPA \n\n\n\nOrchard Oasis: Peach Sour \n\n\n\nCaramel Pecan Porter \n\n\n\nFor brunch we will have our Peach Bellini Mimosa \n\n\n\nAlso peach wine slushies and two guest taps of peach ciders. Oh\, and NA peach slushies for the kiddos. \n\n\n\n\n\n\n\n\n\n\n\n\n\n\n\n\n\n\n	Related
URL:https://beerblogin.com/event/creatures-of-habit-brewing-peach-week-4/
LOCATION:Creatures of Habit Brewing\, 1031 Meridian St.\, Anderson\, IN\, 46016\, United States
END:VEVENT
BEGIN:VEVENT
DTSTART;TZID=America/Indiana/Indianapolis:20250711T120000
DTEND;TZID=America/Indiana/Indianapolis:20250711T220000
DTSTAMP:20260423T200410
CREATED:20250707T200113Z
LAST-MODIFIED:20250707T200120Z
UID:10000248-1752235200-1752271200@beerblogin.com
SUMMARY:Creatures of Habit Brewing Peach Week
DESCRIPTION:Our 5th annual Peach Week is happening at Creatures of Habit July 7-13th! Be sure to come in for our week long tradition of peach-centric food and brews with peaches from The Peach Truck! \n\n\n\nMug Club Monday 4-10pm \n\n\n\nTuesday CLOSED \n\n\n\nWednesday/Thursday 3:30-10pm \n\n\n\nFriday/Saturday 12-10pm \n\n\n\nSunday 12-9pm \n\n\n\nCreatures of Habit Peach Drinks offered: \n\n\n\nPeach Seltzer \n\n\n\nCloudburst: Peach NEIPA \n\n\n\nOrchard Oasis: Peach Sour \n\n\n\nCaramel Pecan Porter \n\n\n\nFor brunch we will have our Peach Bellini Mimosa \n\n\n\nAlso peach wine slushies and two guest taps of peach ciders. Oh\, and NA peach slushies for the kiddos. \n\n\n\n\n\n\n\n\n\n\n\n\n\n\n\n\n\n\n	Related
URL:https://beerblogin.com/event/creatures-of-habit-brewing-peach-week-3/
LOCATION:Creatures of Habit Brewing\, 1031 Meridian St.\, Anderson\, IN\, 46016\, United States
END:VEVENT
BEGIN:VEVENT
DTSTART;TZID=America/Indiana/Indianapolis:20250710T153000
DTEND;TZID=America/Indiana/Indianapolis:20250710T220000
DTSTAMP:20260423T200410
CREATED:20250707T195257Z
LAST-MODIFIED:20250707T195303Z
UID:10000247-1752161400-1752184800@beerblogin.com
SUMMARY:Creatures of Habit Brewing Peach Week
DESCRIPTION:Our 5th annual Peach Week is happening at Creatures of Habit July 7-13th! Be sure to come in for our week long tradition of peach-centric food and brews with peaches from The Peach Truck! \n\n\n\nMug Club Monday 4-10pm \n\n\n\nTuesday CLOSED \n\n\n\nWednesday/Thursday 3:30-10pm \n\n\n\nFriday/Saturday 12-10pm \n\n\n\nSunday 12-9pm \n\n\n\nCreatures of Habit Peach Drinks offered: \n\n\n\nPeach Seltzer \n\n\n\nCloudburst: Peach NEIPA \n\n\n\nOrchard Oasis: Peach Sour \n\n\n\nCaramel Pecan Porter \n\n\n\nFor brunch we will have our Peach Bellini Mimosa \n\n\n\nAlso peach wine slushies and two guest taps of peach ciders. Oh\, and NA peach slushies for the kiddos. \n\n\n\n\n\n\n\n\n\n\n\n\n\n\n\n\n\n\n	Related
URL:https://beerblogin.com/event/creatures-of-habit-brewing-peach-week/
LOCATION:Creatures of Habit Brewing\, 1031 Meridian St.\, Anderson\, IN\, 46016\, United States
END:VEVENT
BEGIN:VEVENT
DTSTART;TZID=America/Indiana/Indianapolis:20250709T153000
DTEND;TZID=America/Indiana/Indianapolis:20250709T220000
DTSTAMP:20260423T200410
CREATED:20250707T193232Z
LAST-MODIFIED:20250707T201504Z
UID:10000246-1752075000-1752098400@beerblogin.com
SUMMARY:Creatures of Habit Brewing Peach Week
DESCRIPTION:Our 5th annual Peach Week is happening at Creatures of Habit July 7-13th! Be sure to come in for our week long tradition of peach-centric food and brews with peaches from The Peach Truck! \n\n\n\nMug Club Monday 4-10pm \n\n\n\nTuesday CLOSED \n\n\n\nWednesday/Thursday 3:30-10pm \n\n\n\nFriday/Saturday 12-10pm \n\n\n\nSunday 12-9pm \n\n\n\nCreatures of Habit Peach Drinks offered: \n\n\n\nPeach Seltzer \n\n\n\nCloudburst: Peach NEIPA \n\n\n\nOrchard Oasis: Peach Sour \n\n\n\nCaramel Pecan Porter \n\n\n\nFor brunch we will have our Peach Bellini Mimosa \n\n\n\nAlso peach wine slushies and two guest taps of peach ciders. Oh\, and NA peach slushies for the kiddos \n\n\n\n\n\n\n\n\n\n\n\n\n\n\n\n\n\n\n	Related
URL:https://beerblogin.com/event/creatures-of-habit-brewing-peach-week-2/
LOCATION:Creatures of Habit Brewing\, 1031 Meridian St.\, Anderson\, IN\, 46016\, United States
END:VEVENT
END:VCALENDAR