BEGIN:VCALENDAR
VERSION:2.0
PRODID:-//beerblogIN - ECPv6.15.20//NONSGML v1.0//EN
CALSCALE:GREGORIAN
METHOD:PUBLISH
X-WR-CALNAME:beerblogIN
X-ORIGINAL-URL:https://beerblogin.com
X-WR-CALDESC:Events for beerblogIN
REFRESH-INTERVAL;VALUE=DURATION:PT1H
X-Robots-Tag:noindex
X-PUBLISHED-TTL:PT1H
BEGIN:VTIMEZONE
TZID:America/Indiana/Indianapolis
BEGIN:DAYLIGHT
TZOFFSETFROM:-0500
TZOFFSETTO:-0400
TZNAME:EDT
DTSTART:20220313T070000
END:DAYLIGHT
BEGIN:STANDARD
TZOFFSETFROM:-0400
TZOFFSETTO:-0500
TZNAME:EST
DTSTART:20221106T060000
END:STANDARD
BEGIN:DAYLIGHT
TZOFFSETFROM:-0500
TZOFFSETTO:-0400
TZNAME:EDT
DTSTART:20230312T070000
END:DAYLIGHT
BEGIN:STANDARD
TZOFFSETFROM:-0400
TZOFFSETTO:-0500
TZNAME:EST
DTSTART:20231105T060000
END:STANDARD
BEGIN:DAYLIGHT
TZOFFSETFROM:-0500
TZOFFSETTO:-0400
TZNAME:EDT
DTSTART:20240310T070000
END:DAYLIGHT
BEGIN:STANDARD
TZOFFSETFROM:-0400
TZOFFSETTO:-0500
TZNAME:EST
DTSTART:20241103T060000
END:STANDARD
END:VTIMEZONE
BEGIN:VEVENT
DTSTART;TZID=America/Indiana/Indianapolis:20230819T120000
DTEND;TZID=America/Indiana/Indianapolis:20230819T210000
DTSTAMP:20260424T062010
CREATED:20230814T205559Z
LAST-MODIFIED:20230814T205603Z
UID:10000164-1692446400-1692478800@beerblogin.com
SUMMARY:WAMMFEST
DESCRIPTION:WAMMfest is an annual summer celebration of wine\, art\, live music and microbrew in Craig Park in Greenwood. \n\n\n\nOrganized by the Sertoma Club of Greenwood. \n\n\n\nWAMM = WINE\, ART\, MUSIC & MICROBREW \n\n\n\nSavor fragrant varieties from Indiana wineries\, shop the juried art fair of 40+ artists\, enjoy live music on two stages\, and taste award-winning craft beer from central Indiana breweries. \n\n\n\nAll net ticket proceeds are distributed back into the community to support scholarships and community non-profit organizations! \n\n\n\nSpecial thanks to our lead sponsors and the many other local businesses and organizations who support WAMMfest. \n\n\n\nLIVE MUSIC \n\n\n\nPushing Daisy’s Band @ 12:45 PM \n\n\n\nFancy Sauce @ 2:15 PM \n\n\n\nBlue River Band @ 3:45 PM \n\n\n\nParrots of the Caribbean @ 5:15 PM \n\n\n\nSpin Doctors @ 7 PM \n\n\n\nWINERIES\n\n\n\nHoltkamp\, Mallow Run\, Cedar Creek\, & Ash & Elm Cider. \n\n\n\nBREWERIES\n\n\n\nFour Day Ray\, Guggman Haus\, Garfield\, Cedar Creek\, Oaken Barrel\, Centerpoint\, Planetary\, Mashcraft\, Taxman\, & Quaff On! \n\n\n\nARTIST CATEGORIES\n\n\n\nAcrylic\, Artisan Jewelry\, Glasswork\, Metals\, Oil\, Photography\, Pottery\, Sculpture\, Watercolor\, Woodworking \n\n\n\nFOOD VENDORS\n\n\n\nA variety of local food trucks along with restaurant-quality cuisine including: \n\n\n\nArdy’s Concession\, Ben’s Soft Pretzels\, Chuy’s TexMex\, Cedar Creek Food Truck\, Dang Quesadilla\, Ella’s Frozen Yogurt\, A Taste of Home Catering\, Kona Ice\, Lonely Monkey\, Marco’s Pizza\, My Super Taqueria\, Pap’s Kettle Corn\, & Whiskey River BBQ \n\n\n\n\n\n\n\n\n\n\n\n\n\n\n	Related
URL:https://beerblogin.com/event/wammfest/
LOCATION:Craig Park\, Greenwood\, 10 East Smith Valley Road\, Greenwood\, Indiana\, 46143
END:VEVENT
END:VCALENDAR