BEGIN:VCALENDAR
VERSION:2.0
PRODID:-//beerblogIN - ECPv6.15.20//NONSGML v1.0//EN
CALSCALE:GREGORIAN
METHOD:PUBLISH
X-WR-CALNAME:beerblogIN
X-ORIGINAL-URL:https://beerblogin.com
X-WR-CALDESC:Events for beerblogIN
REFRESH-INTERVAL;VALUE=DURATION:PT1H
X-Robots-Tag:noindex
X-PUBLISHED-TTL:PT1H
BEGIN:VTIMEZONE
TZID:America/Indiana/Indianapolis
BEGIN:DAYLIGHT
TZOFFSETFROM:-0500
TZOFFSETTO:-0400
TZNAME:EDT
DTSTART:20230312T070000
END:DAYLIGHT
BEGIN:STANDARD
TZOFFSETFROM:-0400
TZOFFSETTO:-0500
TZNAME:EST
DTSTART:20231105T060000
END:STANDARD
BEGIN:DAYLIGHT
TZOFFSETFROM:-0500
TZOFFSETTO:-0400
TZNAME:EDT
DTSTART:20240310T070000
END:DAYLIGHT
BEGIN:STANDARD
TZOFFSETFROM:-0400
TZOFFSETTO:-0500
TZNAME:EST
DTSTART:20241103T060000
END:STANDARD
BEGIN:DAYLIGHT
TZOFFSETFROM:-0500
TZOFFSETTO:-0400
TZNAME:EDT
DTSTART:20250309T070000
END:DAYLIGHT
BEGIN:STANDARD
TZOFFSETFROM:-0400
TZOFFSETTO:-0500
TZNAME:EST
DTSTART:20251102T060000
END:STANDARD
BEGIN:DAYLIGHT
TZOFFSETFROM:-0500
TZOFFSETTO:-0400
TZNAME:EDT
DTSTART:20260308T070000
END:DAYLIGHT
BEGIN:STANDARD
TZOFFSETFROM:-0400
TZOFFSETTO:-0500
TZNAME:EST
DTSTART:20261101T060000
END:STANDARD
END:VTIMEZONE
BEGIN:VEVENT
DTSTART;TZID=America/Indiana/Indianapolis:20250118T120000
DTEND;TZID=America/Indiana/Indianapolis:20250118T160000
DTSTAMP:20260423T231146
CREATED:20241228T175119Z
LAST-MODIFIED:20241228T175127Z
UID:10000209-1737201600-1737216000@beerblogin.com
SUMMARY:South Bend Brewfest
DESCRIPTION:2025 South Bend Brewfest is continuing its whimsical and cheerful vibe. \n\n\n\nThis year’s theme takes a spellbinding cue from the legendary wizarding world of books and movies! Get ready to sip on enchanting brews at this magical beer extravaganza. \n\n\n\nGet your tickets today! \n\n\n\nVIP Tickets will include an extra hour of sampling of 85 varieties of beer from 12:00 pm – 4:00 pm as well as a sampling mug\, lanyard\, commemorative t-shirt\, and glass beer mug. \n\n\n\nGeneral Admission Tickets will include a sampling of 85 varieties of beer from 1:00 pm – 4:00 pm as well as a sampling mug and lanyard along with a commemorative t-shirt. \n\n\n\nDesignated Driver Tickets will include a sampling of non-alcoholic beverages from 1:00 pm – 4:00 pm as well as a punch card for food and beverage items available at the concession stand \n\n\n\n\n\n\n\n\n\n\n\n\n\n\n	Related
URL:https://beerblogin.com/event/south-bend-brewfest-2/
LOCATION:Century Center South Bend\, 120 South Dr. Martin Luther King Jr. Blvd.\, South Bend\, Indiana\, 46601
END:VEVENT
BEGIN:VEVENT
DTSTART;TZID=America/Indiana/Indianapolis:20240120T120000
DTEND;TZID=America/Indiana/Indianapolis:20240120T160000
DTSTAMP:20260423T231146
CREATED:20240118T011313Z
LAST-MODIFIED:20240118T011317Z
UID:10000189-1705752000-1705766400@beerblogin.com
SUMMARY:SOUTH BEND BREWFEST 2024
DESCRIPTION:South Bend Brewfest is back once again and we’re going to Springfield! \n\n\n\nVIPs get access to the good times a 12pm one hour more than General Admission. \n\n\n\nGet your tickets today! \n\n\n\n\n\n\n\n\n\n\n\n\n\n\n	Related
URL:https://beerblogin.com/event/south-bend-brewfest-2024/
LOCATION:Century Center South Bend\, 120 South Dr. Martin Luther King Jr. Blvd.\, South Bend\, Indiana\, 46601
END:VEVENT
END:VCALENDAR