BEGIN:VCALENDAR
VERSION:2.0
PRODID:-//beerblogIN - ECPv6.15.20//NONSGML v1.0//EN
CALSCALE:GREGORIAN
METHOD:PUBLISH
X-ORIGINAL-URL:https://beerblogin.com
X-WR-CALDESC:Events for beerblogIN
REFRESH-INTERVAL;VALUE=DURATION:PT1H
X-Robots-Tag:noindex
X-PUBLISHED-TTL:PT1H
BEGIN:VTIMEZONE
TZID:America/Indiana/Indianapolis
BEGIN:DAYLIGHT
TZOFFSETFROM:-0500
TZOFFSETTO:-0400
TZNAME:EDT
DTSTART:20240310T070000
END:DAYLIGHT
BEGIN:STANDARD
TZOFFSETFROM:-0400
TZOFFSETTO:-0500
TZNAME:EST
DTSTART:20241103T060000
END:STANDARD
BEGIN:DAYLIGHT
TZOFFSETFROM:-0500
TZOFFSETTO:-0400
TZNAME:EDT
DTSTART:20250309T070000
END:DAYLIGHT
BEGIN:STANDARD
TZOFFSETFROM:-0400
TZOFFSETTO:-0500
TZNAME:EST
DTSTART:20251102T060000
END:STANDARD
BEGIN:DAYLIGHT
TZOFFSETFROM:-0500
TZOFFSETTO:-0400
TZNAME:EDT
DTSTART:20260308T070000
END:DAYLIGHT
BEGIN:STANDARD
TZOFFSETFROM:-0400
TZOFFSETTO:-0500
TZNAME:EST
DTSTART:20261101T060000
END:STANDARD
END:VTIMEZONE
BEGIN:VEVENT
DTSTART;TZID=America/Indiana/Indianapolis:20250927T130000
DTEND;TZID=America/Indiana/Indianapolis:20250927T163000
DTSTAMP:20260423T161813
CREATED:20250919T142226Z
LAST-MODIFIED:20250919T142232Z
UID:10000281-1758978000-1758990600@beerblogin.com
SUMMARY:Valpo Brewfest
DESCRIPTION:Get ‘hopped’ up at the 2025 Valpo Brewfest! Enjoy live music and sample over 200 beers\, ciders\, and meads from America’s best craft brewers. \n\n\n\n21+ event. Food is available for purchase. \n\n\n\n2025 Merchandise available – order now and pick up festival day at Merch Booth! \n\n\n\nMain Stage music By NWI’s THE AFTERMATH! \n\n\n\n \n\n\n\n\n\n\n\n \n\n\n\n\n\n\n\n\n\n\n\n\n\n\n	Related
URL:https://beerblogin.com/event/valpo-brewfest/
LOCATION:Central Park Plaza\, 68 Lafayette Street\, Valparaiso\, IN\, 46601\, United States
END:VEVENT
BEGIN:VEVENT
DTSTART;TZID=America/Indiana/Indianapolis:20250926T163000
DTEND;TZID=America/Indiana/Indianapolis:20250926T210000
DTSTAMP:20260423T161813
CREATED:20250919T141025Z
LAST-MODIFIED:20250919T141033Z
UID:10000280-1758904200-1758920400@beerblogin.com
SUMMARY:Brewfest Biergarten Kick-Off
DESCRIPTION:This two-day celebration of craft beer starts off with the free\, family-friendly Brewfest Biergarten on Friday evening! Attendees can enjoy an impressive selection of German style craft beers\, food vendors offering delicious bites to complement the brews\, and live music in a traditional biergarten setting. Food and beverage available for purchase. \n\n\n\nFood and drink available for purchase (cash & card accepted). \n\n\n\nEvent is all ages and family friendly \n\n\n\n– must be 21+ with valid ID to drink – \n\n\n\n\n\n\n\n\n\n\n\n\n\n\n	Related
URL:https://beerblogin.com/event/brewfest-biergarten-kick-off/
LOCATION:Central Park Plaza\, 68 Lafayette Street\, Valparaiso\, IN\, 46601\, United States
END:VEVENT
END:VCALENDAR