BEGIN:VCALENDAR
VERSION:2.0
PRODID:-//beerblogIN - ECPv6.15.20//NONSGML v1.0//EN
CALSCALE:GREGORIAN
METHOD:PUBLISH
X-WR-CALNAME:beerblogIN
X-ORIGINAL-URL:https://beerblogin.com
X-WR-CALDESC:Events for beerblogIN
REFRESH-INTERVAL;VALUE=DURATION:PT1H
X-Robots-Tag:noindex
X-PUBLISHED-TTL:PT1H
BEGIN:VTIMEZONE
TZID:America/Indiana/Indianapolis
BEGIN:DAYLIGHT
TZOFFSETFROM:-0500
TZOFFSETTO:-0400
TZNAME:EDT
DTSTART:20240310T070000
END:DAYLIGHT
BEGIN:STANDARD
TZOFFSETFROM:-0400
TZOFFSETTO:-0500
TZNAME:EST
DTSTART:20241103T060000
END:STANDARD
BEGIN:DAYLIGHT
TZOFFSETFROM:-0500
TZOFFSETTO:-0400
TZNAME:EDT
DTSTART:20250309T070000
END:DAYLIGHT
BEGIN:STANDARD
TZOFFSETFROM:-0400
TZOFFSETTO:-0500
TZNAME:EST
DTSTART:20251102T060000
END:STANDARD
BEGIN:DAYLIGHT
TZOFFSETFROM:-0500
TZOFFSETTO:-0400
TZNAME:EDT
DTSTART:20260308T070000
END:DAYLIGHT
BEGIN:STANDARD
TZOFFSETFROM:-0400
TZOFFSETTO:-0500
TZNAME:EST
DTSTART:20261101T060000
END:STANDARD
END:VTIMEZONE
BEGIN:VEVENT
DTSTART;TZID=America/Indiana/Indianapolis:20250628T140000
DTEND;TZID=America/Indiana/Indianapolis:20250628T200000
DTSTAMP:20260423T225110
CREATED:20250423T195614Z
LAST-MODIFIED:20250423T195619Z
UID:10000241-1751119200-1751140800@beerblogin.com
SUMMARY:2Toms Session Fest
DESCRIPTION:A Day Dedicated to Sessionable Beer & Music \n\n\n\nPlus the 1st Release of 2Tom’s Time & Space: Methode Gueuze \n\n\n\n(A 3-year blend of spontaneously fermented\, barrel-aged beer in the traditional method Belgian style gueuze \n\n\n\nBONUS: All Session Fest Mugs will be good for $4 session beer pours through the remainder of the summer. \n\n\n\nJune 28 – Sept 22 \n\n\n\n\n\n\n\n\n\n\n\n\n\n\n	Related
URL:https://beerblogin.com/event/2toms-session-fest/
LOCATION:2Toms Brewing\, 3676 N. Wells St.\, Fort Wayne\, IN\, 46808\, United States
END:VEVENT
BEGIN:VEVENT
DTSTART;TZID=America/Indiana/Indianapolis:20250301T140000
DTEND;TZID=America/Indiana/Indianapolis:20250301T180000
DTSTAMP:20260423T225110
CREATED:20250117T172011Z
LAST-MODIFIED:20250117T172019Z
UID:10000214-1740837600-1740852000@beerblogin.com
SUMMARY:Frozen Firkin Festival 
DESCRIPTION:2Toms Brewing Company – 5th Annual – Frozen Firkin Festival! \n\n\n\nA unique beer festival serving up One-Off and One-Of-A-Kind beers from some of the best breweries in the region. \n\n\n\nStart your event day by entering through our giant inflatable IGLOO and then out to our patio outfitted with burn barrels and heaters. Firkin Fest will tap 20+ one-off\, individually created beers from 2Toms and guest breweries. Your ticket gains you access to the event\, a limited edition taster glass\, and UNLIMITED pours of some Epic / One of a Kind beers. \n\n\n\nPlus vote on your favorite Firkin and Limited One-off Beer as part of the Brewery People’s Choice Award! \n\n\n\nTickets are now on sale with an opportunity to save big by purchasing online\, in advance. \n\n\n\nThis is an outdoor event so bundle up and get ready for the 2025 Frozen Firkin Fest! \n\n\n\n\n\n\n\n\n\n\n\n\n\n\n	Related
URL:https://beerblogin.com/event/frozen-firkin-festival/
LOCATION:2Toms Brewing\, 3676 N. Wells St.\, Fort Wayne\, IN\, 46808\, United States
END:VEVENT
END:VCALENDAR